BEGIN:VCALENDAR
VERSION:2.0
PRODID:-//ChamberMaster//Event Calendar 2.0//EN
METHOD:PUBLISH
X-PUBLISHED-TTL:P3D
REFRESH-INTERVAL:P3D
CALSCALE:GREGORIAN
BEGIN:VEVENT
DTSTART;VALUE=DATE:20240228
DTEND;VALUE=DATE:20240229
TRANSP:TRANSPARENT
X-MICROSOFT-CDO-ALLDAYEVENT:TRUE
SUMMARY:Lego Building Club
DESCRIPTION:Lego Building Club @ Ruth Culver Community Library in Prairie du Sac starting at 4 PM\n\n\n\nWe are getting out our collection of Legos! Build whatever you want and display your work in one of the library's display cases. No registration required unless you'd like an email reminder.
X-ALT-DESC;FMTTYPE=text/html:Lego Building Club @ Ruth Culver Community Library in Prairie du Sac starting at 4 PM<br />\n<br />\nWe are getting out our collection of Legos! Build whatever you want and display your work in one of the library&rsquo\;s display cases. No registration required unless you&#39\;d like an email reminder.
LOCATION:Ruth Culver Library - Prairie du Sac
UID:e.1184.31494
SEQUENCE:3
DTSTAMP:20260420T003348Z
URL:http://members.saukprairie.com/events/details/lego-building-club-31494
END:VEVENT

END:VCALENDAR
