BEGIN:VCALENDAR
VERSION:2.0
PRODID:-//ChamberMaster//Event Calendar 2.0//EN
METHOD:PUBLISH
X-PUBLISHED-TTL:P3D
REFRESH-INTERVAL:P3D
CALSCALE:GREGORIAN
BEGIN:VEVENT
DTSTART:20221104T210000Z
DTEND:20221104T220000Z
X-MICROSOFT-CDO-ALLDAYEVENT:FALSE
SUMMARY:Lego Challenge Days
DESCRIPTION:Join us for a drop-in afternoon to build with Legos and complete monthly challenges. Come on the first Friday of the month for a new challenge. Are you up to making a dream house or building a flying machine out of Legos? Stop by and find out!
X-ALT-DESC;FMTTYPE=text/html:Join us for a drop-in afternoon to build with Legos and complete monthly challenges. Come on the first Friday of the month for a new challenge. Are you up to making a dream house or building a flying machine out of Legos? Stop by and find out!
LOCATION:615 Phillips Blvd. Sauk City\, WI 53583
UID:e.1184.28763
SEQUENCE:3
DTSTAMP:20260421T020349Z
URL:http://members.saukprairie.com/events/details/lego-challenge-days-11-04-2022-28763
END:VEVENT

END:VCALENDAR
