BEGIN:VCALENDAR
VERSION:2.0
PRODID:-//ChamberMaster//Event Calendar 2.0//EN
METHOD:PUBLISH
X-PUBLISHED-TTL:P3D
REFRESH-INTERVAL:P3D
CALSCALE:GREGORIAN
BEGIN:VEVENT
DTSTART;VALUE=DATE:20230909
DTEND;VALUE=DATE:20230910
TRANSP:TRANSPARENT
X-MICROSOFT-CDO-ALLDAYEVENT:TRUE
SUMMARY:Leola Hall Grand Opening Celebration
DESCRIPTION:Save the Date for the Grand Opening Celebration of Leola Hall!\n\n\n\nThe grand opening will feature events throughout the entire day with the ribbon cutting at 6:30pm.\n\n	\n	Leola Hall is a multi-purpose space designed for meetings\, lectures\, banquets\, performances\, and all the other creative endeavors we dream up!  The need for this space was a direct result of the high demand of the Sauk Prairie River Arts Center. The project is funded in part by a Sauk Prairie Schools 2020 referendum\, $1.75 million dollar donation from Lea Culver (Leola)\, and $272\,000 from River Arts Inc. We are excited to share this new space with you!\n\n	Featuring the following free programming throughout the day:\n	\n	10am-11am: Fox and Branch (Family Folk Music)\n	11am-11:30am (3-5 year olds) 11:30am-12pm (6-8 year olds): Dance classes led by Center Stage Dance Academy \n	11am-3pm Order lunch from Las Milpas Food Truck!\n	11am-3pm: Outdoor Live music in The Circle (lawn chairs recommended)\n	\n		11am-12pm: Michael Endres\n		12pm-1pm: Sam Ness\n		1-2pm: Eric Schultz\n		2pm-3pm: Water Street Jacks Duo\n	\n	\n	12-3pm: Facility Tours\n	1-2pm: Acting/Improv class led by the High School Drama Director (12-18 yr olds)\n	3-4pm: Youth Live Music Concert led by the Middle School Choir Director\n	4:30-5:30pm: Table reading led by the Sauk Prairie Theatre Guild (recommended for adults)\n	4-6pm: 6th Biennial Wings & Water and Act II Art Reception\n	5:30pm-9:30pm Order fun event-themed drinks from Dax Drink Shack!\n	6:30pm: Ribbon cutting\n\n608-643-5215\n\nwww.riverartsinc.org/leola
X-ALT-DESC;FMTTYPE=text/html:Save the Date for the Grand Opening Celebration of Leola Hall!<br />\n<br />\nThe grand opening will feature events throughout the entire day with the ribbon cutting at 6:30pm.\n<ul>\n	<li>\n	<p data-wahfont="13" style="padding: 0px\; margin: 0px 0px 10px\; color: rgb(0\, 0\, 0)\; font-family: Arial\, Helvetica\, sans-serif\;"><span data-wahfont="13" style="padding: 0px\; margin: 0px\;">Leola Hall is a multi-purpose space designed for meetings\, lectures\, banquets\, performances\, and all the other creative endeavors we dream up!&nbsp\; The need for this space was a direct result of the high demand of the Sauk Prairie River Arts Center. The project is funded in part by a Sauk Prairie Schools 2020 referendum\, $1.75 million dollar donation from Lea Culver (Leola)\, and $272\,000 from River Arts Inc. We are excited to share this new space with you!</span></p>\n\n	<p data-wahfont="13" style="padding: 0px\; margin: 0px 0px 10px\; color: rgb(0\, 0\, 0)\; font-family: Arial\, Helvetica\, sans-serif\;"><span data-wahfont="13" style="padding: 0px\; margin: 0px\;">Featuring the following free programming throughout the day:</span></p>\n	</li>\n	<li aria-level="1" style="padding: 0px\; margin: 0px\;"><span data-wahfont="13" style="padding: 0px\; margin: 0px\;">10am-11am:&nbsp\;<span style="padding: 0px\; margin: 0px\; font-weight: 700\;"><span data-wahfont="13" style="padding: 0px\; margin: 0px\; color: rgb(0\, 0\, 255)\;"><a data-wahfont="13" href="https://www.riverartsinc.org/fox-branch/" role="link" style="padding: 0px\; margin: 0px\; color: rgb(0\, 0\, 255)\;">Fox and Branch</a></span></span>&nbsp\;(Family Folk Music)</span></li>\n	<li aria-level="1" style="padding: 0px\; margin: 0px\;"><span data-wahfont="13" style="padding: 0px\; margin: 0px\;">11am-11:30am (3-5 year olds) 11:30am-12pm (6-8 year olds): Dance classes led by Center Stage Dance Academy&nbsp\;</span></li>\n	<li style="padding: 0px\; margin: 0px\;">11am-3pm Order lunch from&nbsp\;<span data-wahfont="13" style="padding: 0px\; margin: 0px\;"><span style="padding: 0px\; margin: 0px\; font-weight: 700\;"><a data-wahfont="13" href="https://www.facebook.com/lasmilpas.tienda/" role="link" style="padding: 0px\; margin: 0px\; color: rgb(193\, 193\, 204)\;">Las Milpas</a></span>&nbsp\;Food Truck!</span></li>\n	<li style="padding: 0px\; margin: 0px\;"><span data-wahfont="13" style="padding: 0px\; margin: 0px\;">11am-3pm: Outdoor Live music in The Circle (lawn chairs recommended)</span>\n	<ul style="padding-right: 0px\; padding-left: 0px\; margin: 0px 0px 0px 20px\; box-sizing: border-box\; list-style: disc\;">\n		<li style="padding: 0px\; margin: 0px\;">11am-12pm:&nbsp\;<span data-wahfont="13" style="padding: 0px\; margin: 0px\; color: rgb(0\, 0\, 255)\;"><span style="padding: 0px\; margin: 0px\; font-weight: 700\;"><a data-wahfont="13" href="https://www.riverartsinc.org/michael-endres/" role="link" style="padding: 0px\; margin: 0px\; color: rgb(0\, 0\, 255)\;">Michael Endres</a></span></span></li>\n		<li style="padding: 0px\; margin: 0px\;">12pm-1pm:&nbsp\;<span data-wahfont="13" style="padding: 0px\; margin: 0px\; color: rgb(0\, 0\, 255)\;"><span style="padding: 0px\; margin: 0px\; font-weight: 700\;"><a data-wahfont="13" href="https://www.riverartsinc.org/sam-ness/" role="link" style="padding: 0px\; margin: 0px\; color: rgb(0\, 0\, 255)\;">Sam Ness</a></span></span></li>\n		<li style="padding: 0px\; margin: 0px\;">1-2pm:&nbsp\;<span data-wahfont="13" style="padding: 0px\; margin: 0px\; color: rgb(0\, 0\, 255)\;"><span style="padding: 0px\; margin: 0px\; font-weight: 700\;"><a data-wahfont="13" href="https://www.riverartsinc.org/eric-schultz/" role="link" style="padding: 0px\; margin: 0px\; color: rgb(0\, 0\, 255)\;">Eric Schultz</a></span></span></li>\n		<li style="padding: 0px\; margin: 0px\;">2pm-3pm:&nbsp\;<span data-wahfont="13" style="padding: 0px\; margin: 0px\; color: rgb(0\, 0\, 255)\;"><span style="padding: 0px\; margin: 0px\; font-weight: 700\;"><a data-wahfont="13" href="https://www.riverartsinc.org/wsj-duo/" role="link" style="padding: 0px\; margin: 0px\; color: rgb(0\, 0\, 255)\;">Water Street Jacks Duo</a></span></span></li>\n	</ul>\n	</li>\n	<li style="padding: 0px\; margin: 0px\;">12-3pm: Facility Tours</li>\n	<li aria-level="1" style="padding: 0px\; margin: 0px\;"><span data-wahfont="13" style="padding: 0px\; margin: 0px\;">1-2pm: Acting/Improv class led by the High School Drama Director (12-18 yr olds)</span></li>\n	<li aria-level="1" style="padding: 0px\; margin: 0px\;"><span data-wahfont="13" style="padding: 0px\; margin: 0px\;">3-4pm: Youth Live Music Concert led by the Middle School Choir Director</span></li>\n	<li aria-level="1" style="padding: 0px\; margin: 0px\;"><span data-wahfont="13" style="padding: 0px\; margin: 0px\;">4:30-5:30pm: Table reading led by the Sauk Prairie Theatre Guild (recommended for adults)</span></li>\n	<li aria-level="1" style="padding: 0px\; margin: 0px\;"><span data-wahfont="13" style="padding: 0px\; margin: 0px\;">4-6pm:&nbsp\;<span style="padding: 0px\; margin: 0px\; font-weight: 700\;"><span data-wahfont="13" style="padding: 0px\; margin: 0px\; color: rgb(0\, 0\, 255)\;"><a data-wahfont="13" href="https://www.riverartsinc.org/wings6-act2/" role="link" style="padding: 0px\; margin: 0px\; color: rgb(0\, 0\, 255)\;"><em style="padding: 0px\; margin: 0px\;">6th Biennial Wings &amp\; Water</em>&nbsp\;and&nbsp\;<em style="padding: 0px\; margin: 0px\;">Act II</em>&nbsp\;Art Reception</a></span></span></span></li>\n	<li aria-level="1" style="padding: 0px\; margin: 0px\;">5:30pm-9:30pm Order fun event-themed drinks from&nbsp\;<span data-wahfont="13" style="padding: 0px\; margin: 0px\; color: rgb(0\, 0\, 255)\;"><span style="padding: 0px\; margin: 0px\; font-weight: 700\;"><a data-wahfont="13" href="https://www.daxdrinkshack.com/" role="link" style="padding: 0px\; margin: 0px\; color: rgb(0\, 0\, 255)\;">Dax Drink Shack!</a></span></span></li>\n	<li aria-level="1" style="padding: 0px\; margin: 0px\;"><span style="padding: 0px\; margin: 0px\; font-weight: 700\;">6:30pm: Ribbon cutting</span></li>\n</ul>\n608-643-5215<br />\n<a href="http://www.riverartsinc.org/leola">www.riverartsinc.org/leola</a>
LOCATION:River Arts Center 105 9th Street Prairie du Sac\, WI 53578
UID:e.1184.29905
SEQUENCE:3
DTSTAMP:20260420T074005Z
URL:http://members.saukprairie.com/events/details/leola-hall-grand-opening-celebration-29905
END:VEVENT

END:VCALENDAR
