BEGIN:VCALENDAR
VERSION:2.0
PRODID:-//ChamberMaster//Event Calendar 2.0//EN
METHOD:PUBLISH
X-PUBLISHED-TTL:P3D
REFRESH-INTERVAL:P3D
CALSCALE:GREGORIAN
BEGIN:VEVENT
DTSTART:20230317T150000Z
DTEND:20230317T160000Z
X-MICROSOFT-CDO-ALLDAYEVENT:FALSE
SUMMARY:Leprechaun Trap Build
DESCRIPTION:Build a leprechaun trap for St. Patrick's Day! What's the best way to catch a leprechaun\; is it with a pot of gold\, four-leaf clovers\, or a rainbow? Create the best trap out of recycled materials. Sign-up is required.
X-ALT-DESC;FMTTYPE=text/html:Build a leprechaun trap for St. Patrick&rsquo\;s Day! What&rsquo\;s the best way to catch a leprechaun\; is it with a pot of gold\, four-leaf clovers\, or a rainbow? Create the best trap out of recycled materials. Sign-up is required.
LOCATION:615 Phillips Blvd. Sauk City\, WI 53583
UID:e.1184.29930
SEQUENCE:3
DTSTAMP:20260420T164832Z
URL:http://members.saukprairie.com/events/details/leprechaun-trap-build-29930
END:VEVENT

END:VCALENDAR
