BEGIN:VCALENDAR
VERSION:2.0
PRODID:-//ChamberMaster//Event Calendar 2.0//EN
METHOD:PUBLISH
X-PUBLISHED-TTL:P3D
REFRESH-INTERVAL:P3D
CALSCALE:GREGORIAN
BEGIN:VEVENT
DTSTART:20221028T210000Z
DTEND:20221029T010000Z
X-MICROSOFT-CDO-ALLDAYEVENT:FALSE
SUMMARY:Let's Flamingle!
DESCRIPTION:Sauk City's Shop\, Snack & Sip Stroll!\n\n\n\nSponsored by Meyer Insurance Agency\n\n\n\nSip and Snack Stops\n\n	Mixing Bowl | Spend $25 and get a free pumpkin bar and 16 oz smoothie.\n	Backroom Gallery (New!) | Bag of fresh apples with purchase.      \n	John Joseph Coffee | Decaf samples and $1.00 off bags.\n	Delicias Monarkas | Water refresher\, one tamale\, piece of a cake $9.00.\n	La Mexicana | Margarita Flights\, Paloma drinks and Nacho specials.\n	The Village Pub | Witches brew under the tent behind the Village Pub.\n	The Gym | Friday Fish Fry.\n	Antique Tap | Long Island Iced Tea.\n	The Riv | Friday Fish Fry.\n	Jaybird's Caf  | Pink Drink Special.\n	C2 Juicery | In store special.\n\nShop Stops\n\nWellness\n\n\n	Herb RX |15-20% off Products\n	Chi Health Herbs and Natural Wellness | Up to 40% off supplements\n\nHome Decor\n\n\n	Retwist-T | Snacks and Surprises!\n	It Could Be Yours | Vintage\, rustic\, general merchandise.  15% off all items\n	Cameo Antique Mall | Starting at 4pm\, 15% to 25% off store wide. Free thank you gift for the first few dozen people. Celebrating National Cat Day and raising funds for Kitties on the Prairie.\n	Stemmed from Grace | In store special\n	3 Generations | Spend $25\, pick a flamingo keychain for % off purchase\n\n \n\nCraft and Hobby\n\n\n	Flaxen Fleece | Snacks and refreshments.  Gift items available for crafters and Madelinetosh yarns will be 20%.  Charmed by Teagan as a guest vendor.\n\n \n\nClothing\, Shoes and Jewelry\n\n\n	LAF Boutique | 40% off special items.\n	Willow and Ivy Boutique | Inside Stemmed from Grace. Mystery drawing.\n	Glitter Girl Gems | Spend $25 receive a % off purchase. (Behind Eagle Pointe)            \n\n \n\nEntertainment and Features\n\n\n	Sauk City Fire Department ladder truck | Riviera St. along the river near Plaza Park. Gift for kids.\n	The Gem City Side Show | Live music from 6-8 pm behind Village Pub\n\nShoppers will stop by the Meyer Insurance booth on Water St. between Flaxen Fleece and Herb Rx to pick up the list of participating businesses. Shop these stores between 4-8 pm\, bring your receipts back to the booth to be validated\, and receive entry for prizes donated by businesses. 1 entry ticket per receipt.  Drawing will be held on Monday\, Oct. 31st.  Winners will be notified by phone and via our Facebook page. There will be 2 walking Flamingo's out on the street (Mingle with a Flamingo) they will be passing out random gifts.
X-ALT-DESC;FMTTYPE=text/html:Sauk City&#39\;s Shop\, Snack &amp\; Sip Stroll!<br />\n<br />\nSponsored by Meyer Insurance Agency<br />\n<br />\n<strong><u>Sip and Snack Stops</u></strong>\n<ul>\n	<li>Mixing Bowl | Spend $25 and get a free pumpkin bar and 16 oz smoothie.</li>\n	<li>Backroom Gallery (New!) | Bag of fresh apples with purchase.&nbsp\; &nbsp\; &nbsp\;&nbsp\;</li>\n	<li>John Joseph Coffee | Decaf samples and $1.00 off bags.</li>\n	<li>Delicias Monarkas | Water refresher\, one tamale\, piece of a cake $9.00.</li>\n	<li>La Mexicana | Margarita Flights\, Paloma drinks and Nacho specials.</li>\n	<li>The Village Pub | Witches brew under the tent behind the Village Pub.</li>\n	<li>The Gym | Friday Fish Fry.</li>\n	<li>Antique Tap | Long Island Iced Tea.</li>\n	<li>The Riv | Friday Fish Fry.</li>\n	<li>Jaybird&rsquo\;s Caf&eacute\; | Pink Drink Special.</li>\n	<li>C2 Juicery | In store special.</li>\n</ul>\n<strong><u>Shop Stops</u></strong><br />\n<u>Wellness</u>\n\n<ul>\n	<li>Herb RX&nbsp\;|15-20% off Products</li>\n	<li>Chi Health Herbs and Natural Wellness | Up to 40% off supplements</li>\n</ul>\n<u>Home Decor</u>\n\n<ul>\n	<li>Retwist-T | Snacks and Surprises!</li>\n	<li>It Could Be Yours |&nbsp\;<span style="color:#26282A\;">Vintage\, rustic\, general merchandise.&nbsp\; 15% off all items</span></li>\n	<li>Cameo Antique Mall |&nbsp\;<span style="color:#26282A\;"><span style="font-family:helvetica\,sans-serif\;"><span style="font-size:10.0pt\;">Starting at 4pm\, 15% to 25% off store wide. Free thank you gift&nbsp\;<span style="color:#26282A\;"><span style="font-family:helvetica\,sans-serif\;"><span style="font-size:10.0pt\;">for the first few dozen people. Celebrating National Cat Day and&nbsp\;<span style="color:#26282A\;"><span style="font-family:helvetica\,sans-serif\;"><span style="font-size:10.0pt\;">raising funds for Kitties on the Prairie.</span></span></span></span></span></span></span></span></span></li>\n	<li>Stemmed from Grace | In store special</li>\n	<li>3 Generations | Spend $25\, pick a flamingo keychain for % off purchase</li>\n</ul>\n&nbsp\;<br />\n<u>Craft and Hobby</u>\n\n<ul>\n	<li>Flaxen Fleece |&nbsp\;Snacks and refreshments.&nbsp\; Gift items available for crafters and Madelinetosh yarns will be 20%.&nbsp\; Charmed by Teagan as a guest vendor.</li>\n</ul>\n&nbsp\;<br />\n<u>Clothing\, Shoes and Jewelry</u>\n\n<ul>\n	<li>LAF Boutique | 40% off special items.</li>\n	<li>Willow and Ivy Boutique&nbsp\;| Inside Stemmed from Grace. Mystery drawing.</li>\n	<li><span style="font-family:calibri\,sans-serif\;"><span style="font-size:11.0pt\;">Glitter Girl Gems | Spend $25 receive a % off purchase. <strong><em>(Behind Eagle Pointe) &nbsp\; &nbsp\; </em></strong>&nbsp\; &nbsp\; &nbsp\; &nbsp\;</span></span></li>\n</ul>\n&nbsp\;<br />\n<u>Entertainment and Features</u>\n\n<ul>\n	<li>Sauk City Fire Department ladder truck | Riviera St. along the river near Plaza Park. Gift for kids.</li>\n	<li>The Gem City Side Show | Live music from 6-8 pm behind Village Pub</li>\n</ul>\n<strong><em>Shoppers will stop by the Meyer Insurance booth on Water St. between Flaxen Fleece and Herb Rx to pick up the list of participating businesses. Shop these stores between 4-8 pm\, bring your receipts back to the booth to be validated\, and receive entry for prizes donated by businesses. 1 entry ticket per receipt.&nbsp\; Drawing will be held on Monday\, Oct. 31<sup>st</sup>.&nbsp\; Winners will be notified by phone and via our Facebook page. There will be 2 walking Flamingo&rsquo\;s out on the street (Mingle with a Flamingo) they will be passing out random gifts.&nbsp\;</em></strong><br />\n&nbsp\;
LOCATION:
UID:e.1184.28724
SEQUENCE:3
DTSTAMP:20260421T033244Z
URL:http://members.saukprairie.com/events/details/let-s-flamingle-28724
END:VEVENT

END:VCALENDAR
