BEGIN:VCALENDAR
VERSION:2.0
PRODID:-//ChamberMaster//Event Calendar 2.0//EN
METHOD:PUBLISH
X-PUBLISHED-TTL:P3D
REFRESH-INTERVAL:P3D
CALSCALE:GREGORIAN
BEGIN:VEVENT
DTSTART;VALUE=DATE:20240817
DTEND;VALUE=DATE:20240818
TRANSP:TRANSPARENT
X-MICROSOFT-CDO-ALLDAYEVENT:TRUE
SUMMARY:Let’s Flamingle Sauk Prairie
DESCRIPTION:Join Sauk Prairie Businesses in our End of Summer Bash! \n\n\n\nActivities | Specials | Town Wide Scavenger Hunt\n\n\n\nParticipating Businesses:\n\n\n\n3 Generations\, Retwist-T\, St. Vincent\, Serenity Art Gallery\, Brunker Realty\, Unfolded LLC\, Buzzed Bean Coffee Co\, SP Fitness\, The Mixing Bowl Bakery\, Backroom Gallery\, Vintage Brewing Co\, John Joseph Coffee\, Flaxen Fleece\, Disorderly Conduct Rage Rooms\, The Tee Box\, It Could Be Yours\, Delicias Monarkas\, Dax Drink Shack\, Ranch and Root\n\n\n\nPick up a Scavenger Hunt Sheet from any participating businesses the morning of August 17th.  Winners will receive Chamber Bucks!
X-ALT-DESC;FMTTYPE=text/html:Join Sauk Prairie Businesses in our End of Summer Bash!&nbsp\;<br />\n<br />\nActivities | Specials | Town Wide Scavenger Hunt<br />\n<br />\nParticipating Businesses:<br />\n<br />\n3 Generations\, Retwist-T\, St. Vincent\, Serenity Art Gallery\, Brunker Realty\, Unfolded LLC\, Buzzed Bean Coffee Co\, SP Fitness\, The Mixing Bowl Bakery\, Backroom Gallery\, Vintage Brewing Co\, John Joseph Coffee\, Flaxen Fleece\, Disorderly Conduct Rage Rooms\, The Tee Box\, It Could Be Yours\, Delicias Monarkas\, Dax Drink Shack\, Ranch and Root<br />\n<br />\nPick up a Scavenger Hunt Sheet from any participating businesses the morning of August 17th.&nbsp\; Winners will receive Chamber Bucks!
LOCATION:Sauk Prairie Businesses
UID:e.1184.32766
SEQUENCE:3
DTSTAMP:20260419T175638Z
URL:http://members.saukprairie.com/events/details/let-s-flamingle-sauk-prairie-32766
END:VEVENT

END:VCALENDAR
