BEGIN:VCALENDAR
VERSION:2.0
PRODID:-//ChamberMaster//Event Calendar 2.0//EN
METHOD:PUBLISH
X-PUBLISHED-TTL:P3D
REFRESH-INTERVAL:P3D
CALSCALE:GREGORIAN
BEGIN:VEVENT
DTSTART:20240620T210000Z
DTEND:20240621T010000Z
X-MICROSOFT-CDO-ALLDAYEVENT:FALSE
SUMMARY:Let The Good Times Boil - Community Expo!
DESCRIPTION:Join your friends\, business colleagues\, and regional service providers as we raise a little h*ll\, I mean raise some shells. New for 2024\, join us as we enjoy live music by West on 12\, all-you-can-eat boiled shrimp\, crawfish\, creole sausage\, corn & potatoes\, and of course\, we will have cold beer! There will be plenty of family friendly events\, including a hot air balloon and utility lift rides\, and interactive games. \n\n\n\nThis event if FREE to attend\, unless of course you want to partake in the "Low Country Boil"\, then you will need a ticket.  A ticket will include all you can eat shrimp\, crawfish\, sausage\, potatoes and corn\, along with two drink tickets and must be purchased in advance as a limited amount of tickets will be available the day of the event.  Low Country Boil Tickets are $35/person.  Tickets for kids 12 and under available for $10 a piece (does not include drink).
X-ALT-DESC;FMTTYPE=text/html:Join your friends\, business colleagues\, and regional service providers as we raise a little h*ll\, I mean raise some shells. New for 2024\, join us as we enjoy live music by West on 12\, all-you-can-eat boiled shrimp\, crawfish\, creole sausage\, corn &amp\; potatoes\, and of course\, we will have cold beer! There will be plenty of family friendly events\, including a hot air balloon and utility lift rides\, and interactive games.&nbsp\;<br />\n<br />\nThis event if FREE to attend\, unless of course you want to partake in the &quot\;Low Country Boil&quot\;\, then you will need a ticket.&nbsp\; A ticket will include all you can eat shrimp\, crawfish\, sausage\, potatoes and corn\, along with two drink tickets and must be purchased in advance as a limited amount of tickets will be available the day of the event.&nbsp\; Low Country Boil Tickets are $35/person.&nbsp\; Tickets for kids 12 and under available for $10 a piece (does not include drink).&nbsp\;&nbsp\;<br />\n&nbsp\;
LOCATION:Culver Community Park
UID:e.1184.31420
SEQUENCE:3
DTSTAMP:20260419T192107Z
URL:http://members.saukprairie.com/events/details/let-the-good-times-boil-community-expo-31420
END:VEVENT

END:VCALENDAR
