BEGIN:VCALENDAR
VERSION:2.0
PRODID:-//ChamberMaster//Event Calendar 2.0//EN
METHOD:PUBLISH
X-PUBLISHED-TTL:P3D
REFRESH-INTERVAL:P3D
CALSCALE:GREGORIAN
BEGIN:VEVENT
DTSTART:20160825T180000Z
DTEND:20160825T190000Z
X-MICROSOFT-CDO-ALLDAYEVENT:FALSE
SUMMARY:Library Book Club
DESCRIPTION:The Book Club reads a variety of fiction and nonfiction. All are welcome. Please join us! Copies of the book are available at the library.
X-ALT-DESC;FMTTYPE=text/html:<span style="color:rgb(68\, 68\, 68)\; font-family:helvetica neue\,arial\,helvetica\,nimbus sans l\,sans-serif\; font-size:12.8px">The Book Club reads a variety of fiction and nonfiction. All are welcome. Please join us! Copies of the book are available at the library.</span>
LOCATION:Sauk City Library
UID:e.1184.9097
SEQUENCE:3
DTSTAMP:20260425T210150Z
URL:http://members.saukprairie.com/events/details/library-book-club-08-25-2016-9097
END:VEVENT

END:VCALENDAR
