BEGIN:VCALENDAR
VERSION:2.0
PRODID:-//ChamberMaster//Event Calendar 2.0//EN
METHOD:PUBLISH
X-PUBLISHED-TTL:P3D
REFRESH-INTERVAL:P3D
CALSCALE:GREGORIAN
BEGIN:VEVENT
DTSTART;VALUE=DATE:20161103
DTEND;VALUE=DATE:20161104
TRANSP:TRANSPARENT
X-MICROSOFT-CDO-ALLDAYEVENT:TRUE
SUMMARY:Library Book Club
DESCRIPTION:November's Pick: The Circle by Dave Eggers\n\nWhat happens when secrets are lies and privacy is left? Get your copy of this slow building suspense at the library today and prepare to be taking on journey of intrigue.\n\nThe Book Club reads a variety of fiction and nonfiction. All are welcome.
X-ALT-DESC;FMTTYPE=text/html:<p>November&rsquo\;s Pick: The Circle by Dave Eggers</p>\n\n<p>What happens when secrets are lies and privacy is left? Get your copy of this slow building suspense at the library today and prepare to be taking on journey of intrigue.</p>\n\n<p>The Book Club reads a variety of fiction and nonfiction. All are welcome.</p>\n
LOCATION:515 Water Street Sauk City\, WI 53583 (608) 643-8346
UID:e.1184.9464
SEQUENCE:3
DTSTAMP:20260425T160822Z
URL:http://members.saukprairie.com/events/details/library-book-club-9464
END:VEVENT

END:VCALENDAR
