BEGIN:VCALENDAR
VERSION:2.0
PRODID:-//ChamberMaster//Event Calendar 2.0//EN
METHOD:PUBLISH
X-PUBLISHED-TTL:P3D
REFRESH-INTERVAL:P3D
CALSCALE:GREGORIAN
BEGIN:VEVENT
DTSTART:20200608T140000Z
DTEND:20200609T010000Z
X-MICROSOFT-CDO-ALLDAYEVENT:FALSE
SUMMARY:Library Book Sale
DESCRIPTION:Browse hundreds of books and movies for all ages at reasonable prices. New items are added all of the time. The sale is in the library's lower level. All proceeds benefit the library via the Friends of the Sauk City Library. Donations are always welcome!
X-ALT-DESC;FMTTYPE=text/html:<span style="background-color:rgb(250\, 250\, 250)\; color:rgb(66\, 66\, 66)\; font-family:arial\,helvetica\,sans-serif\; font-size:12px">Browse hundreds of books and movies for all ages at reasonable prices. New items are added all of the time. The sale is in the library&rsquo\;s lower level. All proceeds benefit the library via the Friends of the Sauk City Library. Donations are always welcome!</span>
LOCATION:Sauk City Public Library (lower level) 515 Water St. Sauk City\, WI
UID:e.1184.9296
SEQUENCE:3
DTSTAMP:20260422T224834Z
URL:http://members.saukprairie.com/events/details/library-book-sale-06-08-2020-9296
END:VEVENT

END:VCALENDAR
