BEGIN:VCALENDAR
VERSION:2.0
PRODID:-//ChamberMaster//Event Calendar 2.0//EN
METHOD:PUBLISH
X-PUBLISHED-TTL:P3D
REFRESH-INTERVAL:P3D
CALSCALE:GREGORIAN
BEGIN:VEVENT
DTSTART;VALUE=DATE:20160609
DTEND;VALUE=DATE:20160610
TRANSP:TRANSPARENT
X-MICROSOFT-CDO-ALLDAYEVENT:TRUE
SUMMARY:Library Event: Summer Reading Challenge
DESCRIPTION:Read books and visit the library for fun\, prizes\, and excitement! The library's annual summer reading program "On Your Mark\, Get Set\, READ!" begins June 9! NEW this year: the first Sauk Prairie Summer Library Reading Challenge for Families! To accommodate busy families\, the Ruth Culver Community Library and the Sauk City Library are teaming up to offer one user-friendly\, reading program for the community. Sign up at either library and report reading at either one throughout the summer. Reading incentives will be similar at each library. Stop by for more details.\n\n\n\nTeens and adults will still be able to sign up for their respective traditional reading programs.
X-ALT-DESC;FMTTYPE=text/html:Read books and visit the library for fun\, prizes\, and excitement! The library&rsquo\;s annual summer reading program &quot\;On Your Mark\, Get Set\, READ!&quot\; begins June 9! NEW this year: the first Sauk Prairie Summer Library Reading Challenge for Families! To accommodate busy families\, the Ruth Culver Community Library and the Sauk City Library are teaming up to offer one user-friendly\, reading program for the community. Sign up at either library and report reading at either one throughout the summer. Reading incentives will be similar at each library. Stop by for more details.<br />\n<br />\nTeens and adults will still be able to sign up for their respective traditional reading programs.
LOCATION:Sauk City Library 515 Water St. Sauk City\, WI
UID:e.1184.8559
SEQUENCE:3
DTSTAMP:20260426T003451Z
URL:http://members.saukprairie.com/events/details/library-event-summer-reading-challenge-06-09-2016-8559
END:VEVENT

END:VCALENDAR
