BEGIN:VCALENDAR
VERSION:2.0
PRODID:-//ChamberMaster//Event Calendar 2.0//EN
METHOD:PUBLISH
X-PUBLISHED-TTL:P3D
REFRESH-INTERVAL:P3D
CALSCALE:GREGORIAN
BEGIN:VEVENT
DTSTART:20240717T163000Z
DTEND:20240717T173000Z
X-MICROSOFT-CDO-ALLDAYEVENT:FALSE
SUMMARY:Library Explores Adventure Program
DESCRIPTION:LIBRARY EXPLORES ADVENTURE PROGRAM\n\nWednesdays at 11:30 a.m.\n\nJune 12 - July 24 (No program July 3)\n\nCome ready for adventure and join our library outdoor adventure club. We'll be getting the help of local experts with some outdoor skill-building lessons! Learn how to do bird calls\, make binoculars\, read a compass and make a map. We'll tell stories around a campfire and roast a few marshmallows\, too.\n\nRecommended for school age children K-5th grade. Come find adventure at the library! Registration is required   16 participants max. Bring a sack lunch   drinks will be provided.
X-ALT-DESC;FMTTYPE=text/html:LIBRARY EXPLORES ADVENTURE PROGRAM<br />\nWednesdays at 11:30 a.m.<br />\nJune 12 - July 24 (No program July 3)<br />\nCome ready for adventure and join our library outdoor adventure club. We&rsquo\;ll be getting the help of local experts with some outdoor skill-building lessons! Learn how to do bird calls\, make binoculars\, read a compass and make a map. We&rsquo\;ll tell stories around a campfire and roast a few marshmallows\, too.<br />\nRecommended for school age children K-5th grade. Come find adventure at the library! Registration is required &ndash\; 16 participants max. Bring a sack lunch &ndash\; drinks will be provided.
LOCATION:615 Phillips Blvd. Sauk City\, WI 53583
UID:e.1184.32618
SEQUENCE:3
DTSTAMP:20260419T175135Z
URL:http://members.saukprairie.com/events/details/library-explores-adventure-program-07-17-2024-32618
END:VEVENT

END:VCALENDAR
