BEGIN:VCALENDAR
VERSION:2.0
PRODID:-//ChamberMaster//Event Calendar 2.0//EN
METHOD:PUBLISH
X-PUBLISHED-TTL:P3D
REFRESH-INTERVAL:P3D
CALSCALE:GREGORIAN
BEGIN:VEVENT
DTSTART:20170722T183000Z
DTEND:20170722T193000Z
X-MICROSOFT-CDO-ALLDAYEVENT:FALSE
SUMMARY:Library Family Event: Family Forts After Hours
DESCRIPTION:Build reading forts with your family in the library! Bring sheets\, blankets\, and pillows. Check out books at the library or bring your own. We'll have a snack and a surprise activity!\n\n\n\nWatch out for the quiet librarians. Sometimes they're hiding in plain sight!
X-ALT-DESC;FMTTYPE=text/html:<span style="font-family:arial\,helvetica\,sans-serif">Build reading forts with your family in the library! Bring sheets\, blankets\, and pillows. Check out books at the library or bring your own. We&rsquo\;ll have a snack and a surprise activity!</span><br />\n<br />\n<span style="color:rgb(68\, 68\, 68)\; font-family:helvetica neue\,arial\,helvetica\,nimbus sans l\,sans-serif\; font-size:12.8px">Watch out for the quiet librarians. Sometimes they&rsquo\;re hiding&nbsp\;in plain sight!</span>
LOCATION:Sauk City Public Library 515 Water St. Sauk City\, WI
UID:e.1184.5859
SEQUENCE:3
DTSTAMP:20260425T034032Z
URL:http://members.saukprairie.com/events/details/library-family-event-family-forts-after-hours-01-16-2016-5859
END:VEVENT

END:VCALENDAR
