BEGIN:VCALENDAR
VERSION:2.0
PRODID:-//ChamberMaster//Event Calendar 2.0//EN
METHOD:PUBLISH
X-PUBLISHED-TTL:P3D
REFRESH-INTERVAL:P3D
CALSCALE:GREGORIAN
BEGIN:VEVENT
DTSTART:20160616T230000Z
DTEND:20160617T000000Z
X-MICROSOFT-CDO-ALLDAYEVENT:FALSE
SUMMARY:Library Family Event: Josh Casey Juggling and Comedy Show
DESCRIPTION:Josh Casey entertains with an interactive comedy juggling show. Packed with funny stunts\, top-notch juggling\, jokes and audience participation.
X-ALT-DESC;FMTTYPE=text/html:<h4>Josh Casey entertains with an interactive comedy juggling show. Packed with funny stunts\, top-notch juggling\, jokes and audience participation.</h4>\n
LOCATION:Sauk City Public Library 515 Water St. Sauk City\, WI
UID:e.1184.8561
SEQUENCE:3
DTSTAMP:20260426T004311Z
URL:http://members.saukprairie.com/events/details/library-family-event-josh-casey-juggling-and-comedy-show-06-16-2016-8561
END:VEVENT

END:VCALENDAR
