BEGIN:VCALENDAR
VERSION:2.0
PRODID:-//ChamberMaster//Event Calendar 2.0//EN
METHOD:PUBLISH
X-PUBLISHED-TTL:P3D
REFRESH-INTERVAL:P3D
CALSCALE:GREGORIAN
BEGIN:VEVENT
DTSTART:20160623T230000Z
DTEND:20160624T000000Z
X-MICROSOFT-CDO-ALLDAYEVENT:FALSE
SUMMARY:Library Family Event: Life-Size Family Game Night
DESCRIPTION:We're taking family game night to a whole new level! Play favorite games like Candyland\, Connect Four\, Jenga\, and more on a jumbo scale!
X-ALT-DESC;FMTTYPE=text/html:We&rsquo\;re taking family game night to a whole new level! Play favorite games like Candyland\, Connect Four\, Jenga\, and more on a jumbo scale!
LOCATION:Sauk City Library 515 Water St. Sauk City\, WI
UID:e.1184.8566
SEQUENCE:3
DTSTAMP:20260426T004209Z
URL:http://members.saukprairie.com/events/details/library-family-event-life-size-family-game-night-06-23-2016-8566
END:VEVENT

END:VCALENDAR
