BEGIN:VCALENDAR
VERSION:2.0
PRODID:-//ChamberMaster//Event Calendar 2.0//EN
METHOD:PUBLISH
X-PUBLISHED-TTL:P3D
REFRESH-INTERVAL:P3D
CALSCALE:GREGORIAN
BEGIN:VEVENT
DTSTART:20160709T150000Z
DTEND:20160709T160000Z
X-MICROSOFT-CDO-ALLDAYEVENT:FALSE
SUMMARY:Library Family Event: Race the Mallards
DESCRIPTION:Meet and greet with several Madison Mallards baseball players and Maynard! Compete against and with them in various fun relay races!
X-ALT-DESC;FMTTYPE=text/html:<div>\n<p>Meet and greet with several Madison Mallards baseball players and Maynard! Compete against and with them in various fun relay races!</p>\n</div>\n
LOCATION:Sauk City Library 515 Water St. Sauk City\, WI
UID:e.1184.8821
SEQUENCE:3
DTSTAMP:20260425T224722Z
URL:http://members.saukprairie.com/events/details/library-family-event-race-the-mallards-07-09-2016-8821
END:VEVENT

END:VCALENDAR
