BEGIN:VCALENDAR
VERSION:2.0
PRODID:-//ChamberMaster//Event Calendar 2.0//EN
METHOD:PUBLISH
X-PUBLISHED-TTL:P3D
REFRESH-INTERVAL:P3D
CALSCALE:GREGORIAN
BEGIN:VEVENT
DTSTART:20160721T230000Z
DTEND:20160722T000000Z
X-MICROSOFT-CDO-ALLDAYEVENT:FALSE
SUMMARY:Library Family Event: Sportacular Flying Disc Show
DESCRIPTION:Disc athlete Brad Wendt will share his collection of unique and odd Frisbees\, teach disc handling skills\, and demonstrate various competitive and recreational disc games. Be ready for lots of audience participation! This event will be outdoors weather-permitting\, so bring a blanket to sit on.
X-ALT-DESC;FMTTYPE=text/html:Disc athlete Brad Wendt will share his collection of unique and odd Frisbees\, teach disc handling skills\, and demonstrate various competitive and recreational disc games. Be ready for lots of audience participation! This event will be outdoors weather-permitting\, so bring a blanket to sit on.
LOCATION:Sauk City Library 515 Water St. Sauk City\, WI
UID:e.1184.8833
SEQUENCE:3
DTSTAMP:20260425T224721Z
URL:http://members.saukprairie.com/events/details/library-family-event-sportacular-flying-disc-show-07-21-2016-8833
END:VEVENT

END:VCALENDAR
