BEGIN:VCALENDAR
VERSION:2.0
PRODID:-//ChamberMaster//Event Calendar 2.0//EN
METHOD:PUBLISH
X-PUBLISHED-TTL:P3D
REFRESH-INTERVAL:P3D
CALSCALE:GREGORIAN
BEGIN:VEVENT
DTSTART:20160707T230000Z
DTEND:20160708T000000Z
X-MICROSOFT-CDO-ALLDAYEVENT:FALSE
SUMMARY:Library Family Event: Stop Motion Animation Night
DESCRIPTION:Make your own brief stop motion animation using props and equipment provided. All ages welcome! Children under 8 must be accompanied by an adult.
X-ALT-DESC;FMTTYPE=text/html:<div>\n<p>Make your own brief stop motion animation using props and equipment provided. All ages welcome! Children under 8 must be accompanied by an adult.</p>\n</div>\n
LOCATION:Sauk City Public Library 515 Water St. Sauk City\, WI
UID:e.1184.8820
SEQUENCE:3
DTSTAMP:20260425T224628Z
URL:http://members.saukprairie.com/events/details/library-family-event-stop-motion-animation-night-07-07-2016-8820
END:VEVENT

END:VCALENDAR
