BEGIN:VCALENDAR
VERSION:2.0
PRODID:-//ChamberMaster//Event Calendar 2.0//EN
METHOD:PUBLISH
X-PUBLISHED-TTL:P3D
REFRESH-INTERVAL:P3D
CALSCALE:GREGORIAN
BEGIN:VEVENT
DTSTART:20160630T230000Z
DTEND:20160630T234500Z
X-MICROSOFT-CDO-ALLDAYEVENT:FALSE
SUMMARY:Library Family Event: Three Billy Goats Gruff Puppet Show
DESCRIPTION:Why won't that troll take a bath? Why was he living under the bridge? Why is this a problem for Bart\, Billy\, and Bob\, the three Billy Goats Gruff? Find out in this fun version of the old tale.
X-ALT-DESC;FMTTYPE=text/html:Why won&rsquo\;t that troll take a bath? Why was he living under the bridge? Why is this a problem for Bart\, Billy\, and Bob\, the three Billy Goats Gruff?&nbsp\;Find out in this fun version of the old tale.
LOCATION:Sauk City Library 515 Water St. Sauk City\, WI
UID:e.1184.8569
SEQUENCE:3
DTSTAMP:20260426T003834Z
URL:http://members.saukprairie.com/events/details/library-family-event-three-billy-goats-gruff-puppet-show-06-30-2016-8569
END:VEVENT

END:VCALENDAR
