BEGIN:VCALENDAR
VERSION:2.0
PRODID:-//ChamberMaster//Event Calendar 2.0//EN
METHOD:PUBLISH
X-PUBLISHED-TTL:P3D
REFRESH-INTERVAL:P3D
CALSCALE:GREGORIAN
BEGIN:VEVENT
DTSTART:20160907T170000Z
DTEND:20160908T020000Z
X-MICROSOFT-CDO-ALLDAYEVENT:FALSE
SUMMARY:Library Golf Outing & Dinner
DESCRIPTION:Join us for our 8th annual golf outing and dinner at Lake Wisconsin Country Club.  This event is hosted by the Friends of the Ruth Culver Community Library and all proceeds will benefit the Ruth Culver Community Library.  Special opportunities to support the event as a sponsor are also available. Thanks to our generous sponsors for their support. Please return a registration form (pdf) for the dinner or the golf outing.
X-ALT-DESC;FMTTYPE=text/html:<span style="color: rgb(62\, 62\, 62)\; font-family: Arial\, Helvetica\, &quot\;Nimbus Sans L&quot\;\, sans-serif\; font-size: 16px\; line-height: 24px\;">Join us for our 8th annual&nbsp\;</span><a href="http://www.pdslibrary.org/golf-outing-2016#outing" style="color: rgb(64\, 94\, 97)\; font-family: Arial\, Helvetica\, &quot\;Nimbus Sans L&quot\;\, sans-serif\; font-size: 16px\; line-height: 24px\;">golf outing</a><span style="color: rgb(62\, 62\, 62)\; font-family: Arial\, Helvetica\, &quot\;Nimbus Sans L&quot\;\, sans-serif\; font-size: 16px\; line-height: 24px\;">&nbsp\;and&nbsp\;</span><a href="http://www.pdslibrary.org/golf-outing-2016#dinner" style="color: rgb(64\, 94\, 97)\; font-family: Arial\, Helvetica\, &quot\;Nimbus Sans L&quot\;\, sans-serif\; font-size: 16px\; line-height: 24px\;">dinner</a><span style="color: rgb(62\, 62\, 62)\; font-family: Arial\, Helvetica\, &quot\;Nimbus Sans L&quot\;\, sans-serif\; font-size: 16px\; line-height: 24px\;">&nbsp\;at Lake Wisconsin Country Club.&nbsp\; This event is hosted by the Friends of the Ruth Culver Community Library and all proceeds will benefit the Ruth Culver Community Library.&nbsp\; Special opportunities to&nbsp\;</span><a href="http://www.pdslibrary.org/golf-outing-2016#sponsorship" style="color: rgb(64\, 94\, 97)\; font-family: Arial\, Helvetica\, &quot\;Nimbus Sans L&quot\;\, sans-serif\; font-size: 16px\; line-height: 24px\;">support the event as a sponsor</a><span style="color: rgb(62\, 62\, 62)\; font-family: Arial\, Helvetica\, &quot\;Nimbus Sans L&quot\;\, sans-serif\; font-size: 16px\; line-height: 24px\;">&nbsp\;are also available. Thanks to our&nbsp\;</span><a href="http://www.pdslibrary.org/golf-outing-2016#2015%20sponsors" style="color: rgb(64\, 94\, 97)\; font-family: Arial\, Helvetica\, &quot\;Nimbus Sans L&quot\;\, sans-serif\; font-size: 16px\; line-height: 24px\;">generous sponsors</a><span style="color: rgb(62\, 62\, 62)\; font-family: Arial\, Helvetica\, &quot\;Nimbus Sans L&quot\;\, sans-serif\; font-size: 16px\; line-height: 24px\;">&nbsp\;for their support. Please return a&nbsp\;</span><a href="http://www.pdslibrary.org/sites/www.pdslibrary.org/files/Documents/Golf%20Outing%20Registration%20form%202016.pdf" style="color: rgb(64\, 94\, 97)\; font-family: Arial\, Helvetica\, &quot\;Nimbus Sans L&quot\;\, sans-serif\; font-size: 16px\; line-height: 24px\;">registration form</a><span style="color: rgb(62\, 62\, 62)\; font-family: Arial\, Helvetica\, &quot\;Nimbus Sans L&quot\;\, sans-serif\; font-size: 16px\; line-height: 24px\;">&nbsp\;(pdf) for the dinner or the golf outing.</span>
LOCATION:Lake Wisconsin Country Club
UID:e.1184.8852
SEQUENCE:3
DTSTAMP:20260425T192522Z
URL:http://members.saukprairie.com/events/details/library-golf-outing-dinner-09-07-2016-8852
END:VEVENT

END:VCALENDAR
