BEGIN:VCALENDAR
VERSION:2.0
PRODID:-//ChamberMaster//Event Calendar 2.0//EN
METHOD:PUBLISH
X-PUBLISHED-TTL:P3D
REFRESH-INTERVAL:P3D
CALSCALE:GREGORIAN
BEGIN:VEVENT
DTSTART:20160720T180000Z
DTEND:20160720T190000Z
X-MICROSOFT-CDO-ALLDAYEVENT:FALSE
SUMMARY:Library Kids' Event: Art in Motion
DESCRIPTION:Prepare for messy fun making art! All ages welcome! Adults or responsible teens must accompany children under 5. Wear old clothes or bring a paint shirt.
X-ALT-DESC;FMTTYPE=text/html:Prepare for messy fun making art! All ages welcome! Adults or responsible teens must accompany children under 5. Wear old clothes or bring a paint shirt.
LOCATION:Sauk City Library 515 Water St. Sauk City\, WI
UID:e.1184.8830
SEQUENCE:3
DTSTAMP:20260425T224505Z
URL:http://members.saukprairie.com/events/details/library-kids-event-art-in-motion-07-20-2016-8830
END:VEVENT

END:VCALENDAR
