BEGIN:VCALENDAR
VERSION:2.0
PRODID:-//ChamberMaster//Event Calendar 2.0//EN
METHOD:PUBLISH
X-PUBLISHED-TTL:P3D
REFRESH-INTERVAL:P3D
CALSCALE:GREGORIAN
BEGIN:VEVENT
DTSTART:20160706T180000Z
DTEND:20160706T190000Z
X-MICROSOFT-CDO-ALLDAYEVENT:FALSE
SUMMARY:Library Kids' Event: Sundae Read-a-thon
DESCRIPTION:After 45 minutes of reading in the library\, some silently and some aloud\, participants will enjoy an ice cream sundae! Bring your own reading materials or choose from the library's collection. All ages welcome! Adults or responsible teens must accompany children under 5.
X-ALT-DESC;FMTTYPE=text/html:<div>\n<p>After 45 minutes of reading in the library\, some silently and some aloud\, participants will enjoy an ice cream sundae! Bring your own reading materials or choose from the library&rsquo\;s collection. All ages welcome! Adults or responsible teens must accompany children under 5.</p>\n</div>\n
LOCATION:Sauk City Library 515 Water St. Sauk City\, WI
UID:e.1184.8819
SEQUENCE:3
DTSTAMP:20260425T224325Z
URL:http://members.saukprairie.com/events/details/library-kids-event-sundae-read-a-thon-07-06-2016-8819
END:VEVENT

END:VCALENDAR
