BEGIN:VCALENDAR
VERSION:2.0
PRODID:-//ChamberMaster//Event Calendar 2.0//EN
METHOD:PUBLISH
X-PUBLISHED-TTL:P3D
REFRESH-INTERVAL:P3D
CALSCALE:GREGORIAN
BEGIN:VEVENT
DTSTART:20170329T150000Z
DTEND:20170329T170000Z
X-MICROSOFT-CDO-ALLDAYEVENT:FALSE
SUMMARY:Take Apart Day
DESCRIPTION:Kids are invited to safely take apart old electronics to explore their insides and learn a bit about how they work. Participants will also be introduced to recycling components. Adults must accompany children under 8.
X-ALT-DESC;FMTTYPE=text/html:Kids are invited to safely take apart old electronics to explore their insides and learn a bit about how they work. Participants will also be introduced to recycling components. Adults must accompany children under 8.
LOCATION:Sauk City Public Library 515 Water St. Sauk City\, WI
UID:e.1184.8410
SEQUENCE:3
DTSTAMP:20260425T110225Z
URL:http://members.saukprairie.com/events/details/library-kids-event-take-apart-day-03-31-2016-8410
END:VEVENT

END:VCALENDAR
