BEGIN:VCALENDAR
VERSION:2.0
PRODID:-//ChamberMaster//Event Calendar 2.0//EN
METHOD:PUBLISH
X-PUBLISHED-TTL:P3D
REFRESH-INTERVAL:P3D
CALSCALE:GREGORIAN
BEGIN:VEVENT
DTSTART:20160713T180000Z
DTEND:20160713T190000Z
X-MICROSOFT-CDO-ALLDAYEVENT:FALSE
SUMMARY:Library Kids' Program Series: Book Explorers
DESCRIPTION:Explore a new theme each time using longer picture books and activities. This program is geared for children ages 5-8\, but all are welcome!\n\n\n\n \n\n\n\nSchedule of Themes:\n\n\n\nJune 15: Fantastical Places\n\n\n\nJune 29: Whipping Up Treats\n\n\n\nJuly 13: Putting Pen to Paper
X-ALT-DESC;FMTTYPE=text/html:<div>\n<div>\n<div>Explore a new theme each time using longer picture books and activities. This program is geared for children ages 5-8\, but all are welcome!</div>\n</div>\n\n<div>\n<div>&nbsp\;</div>\n</div>\n\n<div>\n<div>Schedule of Themes:</div>\n</div>\n\n<div>\n<div>June 15: Fantastical Places</div>\n</div>\n\n<div>\n<div>June 29: Whipping Up Treats</div>\n</div>\n\n<div>\n<div>July 13: Putting Pen to Paper</div>\n</div>\n</div>\n
LOCATION:Sauk City Public Library 515 Water St. Sauk City\, WI
UID:e.1184.8564
SEQUENCE:3
DTSTAMP:20260425T224119Z
URL:http://members.saukprairie.com/events/details/library-kids-program-series-book-explorers-07-13-2016-8564
END:VEVENT

END:VCALENDAR
