BEGIN:VCALENDAR
VERSION:2.0
PRODID:-//ChamberMaster//Event Calendar 2.0//EN
METHOD:PUBLISH
X-PUBLISHED-TTL:P3D
REFRESH-INTERVAL:P3D
CALSCALE:GREGORIAN
BEGIN:VEVENT
DTSTART:20160629T140000Z
DTEND:20160629T150000Z
X-MICROSOFT-CDO-ALLDAYEVENT:FALSE
SUMMARY:Library Kids' Program Series: Summer Stories
DESCRIPTION:Join Becky for stories\, activities\, and a simple craft! A new theme each week! No registration is required. Open to all children ages 0-5.
X-ALT-DESC;FMTTYPE=text/html:Join Becky for stories\, activities\, and a simple craft! A new theme each week! No registration is required. Open to all children ages 0-5.
LOCATION:Sauk City Library 515 Water St. Sauk City\, WI (lower level)
UID:e.1184.8555
SEQUENCE:3
DTSTAMP:20260426T003518Z
URL:http://members.saukprairie.com/events/details/library-kids-program-series-summer-stories-06-29-2016-8555
END:VEVENT

END:VCALENDAR
