BEGIN:VCALENDAR
VERSION:2.0
PRODID:-//ChamberMaster//Event Calendar 2.0//EN
METHOD:PUBLISH
X-PUBLISHED-TTL:P3D
REFRESH-INTERVAL:P3D
CALSCALE:GREGORIAN
BEGIN:VEVENT
DTSTART:20190711T233000Z
DTEND:20190712T004500Z
X-MICROSOFT-CDO-ALLDAYEVENT:FALSE
SUMMARY:Light up Canvas
DESCRIPTION:Create a galactic masterpiece that has real light-up stars. Use the provided templates to make your astrological sign or light up your own pattern. All materials will be provided. Sign up in advance by calling or visiting the library. For grades 6-12.
X-ALT-DESC;FMTTYPE=text/html:<span style="font-family:arial\; font-size:11pt">Create a galactic masterpiece that has real light-up stars. Use the provided templates to make your astrological sign or light up your own pattern. All materials will be provided. Sign up in advance by calling or visiting the library. For grades 6-12.</span>
LOCATION:515 Water Street Sauk City\, WI 53583
UID:e.1184.22566
SEQUENCE:3
DTSTAMP:20260423T153227Z
URL:http://members.saukprairie.com/events/details/light-up-canvas-22566
END:VEVENT

END:VCALENDAR
