BEGIN:VCALENDAR
VERSION:2.0
PRODID:-//ChamberMaster//Event Calendar 2.0//EN
METHOD:PUBLISH
X-PUBLISHED-TTL:P3D
REFRESH-INTERVAL:P3D
CALSCALE:GREGORIAN
BEGIN:VEVENT
DTSTART:20170211T160000Z
DTEND:20170211T170000Z
X-MICROSOFT-CDO-ALLDAYEVENT:FALSE
SUMMARY:Lil' Sweethearts 4th Annual Dance
DESCRIPTION:DJ Diaperhead (a.k.a. Ben Miller) will once again be spinning records in the library's lower level. It is the social event of the season for kids 0-5 years and their families! Make plans to attend! Dancing\, crafting\, and snacking\, all for free! Invite your friends!
X-ALT-DESC;FMTTYPE=text/html:DJ Diaperhead (a.k.a. Ben Miller) will once again be spinning records in the library&#39\;s lower level. It is the social event of the season for kids 0-5 years and their families! Make plans to attend! Dancing\, crafting\, and snacking\, all for free! Invite your friends!
LOCATION:Sauk City Public Library 515 Water St. Sauk City\, WI
UID:e.1184.9861
SEQUENCE:3
DTSTAMP:20260425T110225Z
URL:http://members.saukprairie.com/events/details/lil-sweethearts-4th-annual-dance-9861
END:VEVENT

END:VCALENDAR
