BEGIN:VCALENDAR
VERSION:2.0
PRODID:-//ChamberMaster//Event Calendar 2.0//EN
METHOD:PUBLISH
X-PUBLISHED-TTL:P3D
REFRESH-INTERVAL:P3D
CALSCALE:GREGORIAN
BEGIN:VEVENT
DTSTART:20180210T160000Z
DTEND:20180210T170000Z
X-MICROSOFT-CDO-ALLDAYEVENT:FALSE
SUMMARY:Little Sweethearts 5th Annual Dance
DESCRIPTION:DJ Diaperhead (a.k.a. Ben Miller) will once again be spinning records in the library's lower level. It is the social event of the season for kids 0-5 years and their families! Make plans to attend! Dancing\, crafting\, and snacking\, all for free! Invite your friends!
X-ALT-DESC;FMTTYPE=text/html:DJ Diaperhead (a.k.a. Ben Miller) will once again be spinning records in the library&#39\;s lower level. It is the social event of the season for kids 0-5 years and their families! Make plans to attend! Dancing\, crafting\, and snacking\, all for free! Invite your friends!
LOCATION:
UID:e.1184.14611
SEQUENCE:3
DTSTAMP:20260424T161852Z
URL:http://members.saukprairie.com/events/details/lil-sweethearts-5th-annual-dance-14611
END:VEVENT

END:VCALENDAR
