BEGIN:VCALENDAR
VERSION:2.0
PRODID:-//ChamberMaster//Event Calendar 2.0//EN
METHOD:PUBLISH
X-PUBLISHED-TTL:P3D
REFRESH-INTERVAL:P3D
CALSCALE:GREGORIAN
BEGIN:VEVENT
DTSTART:20230630T150000Z
DTEND:20230630T160000Z
X-MICROSOFT-CDO-ALLDAYEVENT:FALSE
SUMMARY:Line Dancing for Kids
DESCRIPTION:Dust off those shoes and let's boogie! Join Kyra Manning in learning the basic steps of many different line dances. Please wear comfortable clothes and bring a water bottle. Registration is required.
X-ALT-DESC;FMTTYPE=text/html:Dust off those shoes and let&rsquo\;s boogie! Join Kyra Manning in learning the basic steps of many different line dances. Please wear comfortable clothes and bring a water bottle. Registration is required.
LOCATION:615 Phillips Blvd. Sauk City\, WI 53583
UID:e.1184.30850
SEQUENCE:3
DTSTAMP:20260420T115711Z
URL:http://members.saukprairie.com/events/details/line-dancing-for-kids-30850
END:VEVENT

END:VCALENDAR
