BEGIN:VCALENDAR
VERSION:2.0
PRODID:-//ChamberMaster//Event Calendar 2.0//EN
METHOD:PUBLISH
X-PUBLISHED-TTL:P3D
REFRESH-INTERVAL:P3D
CALSCALE:GREGORIAN
BEGIN:VEVENT
DTSTART:20200215T160000Z
DTEND:20200215T173000Z
X-MICROSOFT-CDO-ALLDAYEVENT:FALSE
SUMMARY:Little Sweethearts Dance
DESCRIPTION:DJ Superstar is in the house! He will play kid-friendly dance music for children and families\, and lead a few dances\, too. Children can take a break from the action with refreshments and crafts.
X-ALT-DESC;FMTTYPE=text/html:DJ Superstar is in the house! He will play kid-friendly dance music for children and families\, and lead a few dances\, too. Children can take a break from the action with refreshments and crafts.&nbsp\;
LOCATION:515 Water Street Sauk City\, WI 53583
UID:e.1184.23994
SEQUENCE:3
DTSTAMP:20260423T041446Z
URL:http://members.saukprairie.com/events/details/little-sweethearts-dance-02-15-2020-23994
END:VEVENT

END:VCALENDAR
