BEGIN:VCALENDAR
VERSION:2.0
PRODID:-//ChamberMaster//Event Calendar 2.0//EN
METHOD:PUBLISH
X-PUBLISHED-TTL:P3D
REFRESH-INTERVAL:P3D
CALSCALE:GREGORIAN
BEGIN:VEVENT
DTSTART:20190216T160000Z
DTEND:20190216T170000Z
X-MICROSOFT-CDO-ALLDAYEVENT:FALSE
SUMMARY:Little Sweethearts Dance
DESCRIPTION:The library invites children under 6 and their families to join us for our 6th annual dance. Refreshments and crafts will be provided as well as a calming room for anyone who needs a break from dancing the morning away. It is the social event of the season for kids 0-5 years and their families! Make plans to attend! Invite your friends!
X-ALT-DESC;FMTTYPE=text/html:<span style="font-size:12px"><span style="font-family:arial">The library invites children under 6 and their families to join us for our 6th annual dance. Refreshments and crafts will be provided as well as a calming room for anyone who needs a break from dancing the morning away</span>. It is the social event of the season for kids 0-5 years and their families! Make plans to attend! Invite your friends! </span>
LOCATION:515 Water St Sauk City\, WI 53583
UID:e.1184.21975
SEQUENCE:3
DTSTAMP:20260423T213153Z
URL:http://members.saukprairie.com/events/details/little-sweethearts-dance-21975
END:VEVENT

END:VCALENDAR
