BEGIN:VCALENDAR
VERSION:2.0
PRODID:-//ChamberMaster//Event Calendar 2.0//EN
METHOD:PUBLISH
X-PUBLISHED-TTL:P3D
REFRESH-INTERVAL:P3D
CALSCALE:GREGORIAN
BEGIN:VEVENT
DTSTART:20190711T230000Z
DTEND:20190712T020000Z
X-MICROSOFT-CDO-ALLDAYEVENT:FALSE
SUMMARY:Live Music on the Deck every Thursday!!! Sou-Pare Plus playing 6pm-9pm
DESCRIPTION:The Old Schoolhouse will have live music on the deck every Thursday night 6pm-9pm.  Great drink specials\, tap beer selection\, and homemade gourmet deep dish pizza served 4pm-10pm!
X-ALT-DESC;FMTTYPE=text/html:The Old Schoolhouse will have live music on the deck every Thursday night 6pm-9pm.&nbsp\; Great drink specials\, tap beer selection\, and homemade gourmet deep dish pizza served 4pm-10pm!
LOCATION:The Old Schoolhouse E13887 Cty Rd DL Merrimac\, WI 53561
UID:e.1184.22633
SEQUENCE:3
DTSTAMP:20260423T141458Z
URL:http://members.saukprairie.com/events/details/live-music-on-the-deck-every-thursday-sou-pare-plus-playing-6pm-9pm-22633
END:VEVENT

END:VCALENDAR
