BEGIN:VCALENDAR
VERSION:2.0
PRODID:-//ChamberMaster//Event Calendar 2.0//EN
METHOD:PUBLISH
X-PUBLISHED-TTL:P3D
REFRESH-INTERVAL:P3D
CALSCALE:GREGORIAN
BEGIN:VEVENT
DTSTART:20180419T000000Z
DTEND:20180419T010000Z
X-MICROSOFT-CDO-ALLDAYEVENT:FALSE
SUMMARY:Local Author/Artist Rhonda Nass
DESCRIPTION:Join us at the Ruth Culver Community Library Wednesday\, April 18 at 7:00 p.m. to hear local author and artist Rhonda Nass talk about her book Scratchings of a Madwoman.  Contact Meagan at 643-8318 with questions.
X-ALT-DESC;FMTTYPE=text/html:Join us at the Ruth Culver Community Library Wednesday\, April 18 at 7:00 p.m. to hear local author and artist Rhonda Nass talk about her book <em>Scratchings of a Madwoman</em>.&nbsp\; Contact Meagan at 643-8318 with questions.
LOCATION:Ruth Culver Community Library 540 Water Street Prairie du Sac
UID:e.1184.14688
SEQUENCE:3
DTSTAMP:20260424T130048Z
URL:http://members.saukprairie.com/events/details/local-author-artist-rhonda-nass-14688
END:VEVENT

END:VCALENDAR
