BEGIN:VCALENDAR
VERSION:2.0
PRODID:-//ChamberMaster//Event Calendar 2.0//EN
METHOD:PUBLISH
X-PUBLISHED-TTL:P3D
REFRESH-INTERVAL:P3D
CALSCALE:GREGORIAN
BEGIN:VEVENT
DTSTART:20191015T190000Z
DTEND:20191015T200000Z
X-MICROSOFT-CDO-ALLDAYEVENT:FALSE
SUMMARY:Local Author Bill Stokes
DESCRIPTION:Local author and journalist\, Bill Stokes is coming to the library to discuss his debut novel\, Margaret's War. The novel is set in Barron County\, where Stokes grew up\, and revolves around the World War II POW camp. After flooding cancelled his first visit\, Bill has been rescheduled for Tuesday\, October 15 at 2:00 pm.
X-ALT-DESC;FMTTYPE=text/html:Local author and journalist\, Bill Stokes is coming to the library to discuss his debut novel\, Margaret&rsquo\;s War. The novel is set in Barron County\, where Stokes grew up\, and revolves around the World War II POW camp. After flooding cancelled his first visit\, Bill has been rescheduled for Tuesday\, October 15 at 2:00 pm.
LOCATION:515 Water Street Sauk City\, WI 53583
UID:e.1184.23576
SEQUENCE:3
DTSTAMP:20260423T095140Z
URL:http://members.saukprairie.com/events/details/local-author-bill-stokes-23576
END:VEVENT

END:VCALENDAR
