BEGIN:VCALENDAR
VERSION:2.0
PRODID:-//ChamberMaster//Event Calendar 2.0//EN
METHOD:PUBLISH
X-PUBLISHED-TTL:P3D
REFRESH-INTERVAL:P3D
CALSCALE:GREGORIAN
BEGIN:VEVENT
DTSTART:20190622T150000Z
DTEND:20190622T170000Z
X-MICROSOFT-CDO-ALLDAYEVENT:FALSE
SUMMARY:Local Author Showcase
DESCRIPTION:Local authors will visit the library to present their books and answer questions about their work\, getting published and being an author. Refreshments will be served.
X-ALT-DESC;FMTTYPE=text/html:Local authors will visit the library to present their books and answer questions about their work\, getting published and being an author. Refreshments will be served.
LOCATION:515 Water Street Sauk City\, WI 53583
UID:e.1184.22433
SEQUENCE:3
DTSTAMP:20260423T153237Z
URL:http://members.saukprairie.com/events/details/local-author-showcase-22433
END:VEVENT

END:VCALENDAR
