BEGIN:VCALENDAR
VERSION:2.0
PRODID:-//ChamberMaster//Event Calendar 2.0//EN
METHOD:PUBLISH
X-PUBLISHED-TTL:P3D
REFRESH-INTERVAL:P3D
CALSCALE:GREGORIAN
BEGIN:VEVENT
DTSTART:20230921T130000Z
DTEND:20230923T210000Z
X-MICROSOFT-CDO-ALLDAYEVENT:FALSE
SUMMARY:Local Color: Botanical Printing and Dyeing with LIsa Binkley
DESCRIPTION:Thurs-Sat\, September 21-23\, 2023 | 9am-4pm all 3 days | Deadline to register: Sept 14 \n\n$395 class fee + $30 kit fee | Ages 18+\n\nDyeing with plant pigments and other natural materials (insects\, lichen\, etc.) has been practiced and refined for thousands of years for as long as humans have made cloth and wished to beautify it. Printing with plants has been practiced for generations through such traditions as Easter egg decoration and as a way to create pattern and imagery on fabric.\n\nDuring this workshop students learn about the history of dyeing and printing with plants\; how to prepare fabric for dyeing and printing\; ways to secure and alter dye color on cloth\; and many ways to get patterns and images on fabric with a variety of mordants and plant materials. We begin by gathering our printing and dyeing plants from the area surrounding the workshop (and at home). Then we explore dyeing solid and mottled colors with botanical pigments both individually and in combination\; printing plant materials onto fabrics\; eco-printing and dyeing together. These fabrics will all have a distinct connection to the place and time of the workshop.
X-ALT-DESC;FMTTYPE=text/html:<p><strong>Thurs-Sat\, September 21-23\, 2023 | 9am-4pm</strong>&nbsp\;all 3 days | Deadline to register: Sept 14&nbsp\;</p>\n\n<p><strong>$395 class fee + $30 kit fee</strong>&nbsp\;|&nbsp\;<strong>Ages 18+</strong></p>\n\n<p>Dyeing with plant pigments and other natural materials (insects\, lichen\, etc.) has been practiced and refined for thousands of years&mdash\;for as long as humans have made cloth and wished to beautify it. Printing with plants has been practiced for generations through such traditions as Easter egg decoration and as a way to create pattern and imagery on fabric.</p>\n\n<p>During this workshop students learn about the history of dyeing and printing with plants\; how to prepare fabric for dyeing and printing\; ways to secure and alter dye color on cloth\; and many ways to get patterns and images on fabric with a variety of mordants and plant materials. We begin by gathering our printing and dyeing plants from the area surrounding the workshop (and at home). Then we explore dyeing solid and mottled colors with botanical pigments both individually and in combination\; printing plant materials onto fabrics\; eco-printing and dyeing together. These fabrics will all have a distinct connection to the place and time of the workshop.</p>\n
LOCATION:River Arts on Water Gallery. 590 Water Street\, Prairie du Sac\, WI\, 53578
UID:e.1184.30750
SEQUENCE:3
DTSTAMP:20260420T074234Z
URL:http://members.saukprairie.com/events/details/local-color-botanical-printing-and-dyeing-with-lisa-binkley-30750
END:VEVENT

END:VCALENDAR
