BEGIN:VCALENDAR
VERSION:2.0
PRODID:-//ChamberMaster//Event Calendar 2.0//EN
METHOD:PUBLISH
X-PUBLISHED-TTL:P3D
REFRESH-INTERVAL:P3D
CALSCALE:GREGORIAN
BEGIN:VEVENT
DTSTART:20220909T140000Z
DTEND:20220909T210000Z
X-MICROSOFT-CDO-ALLDAYEVENT:FALSE
SUMMARY:Local Color: Botanical Printing and Dying with Lisa Binkley
DESCRIPTION:Dyeing with plant pigments and other natural materials (insects\, lichen\, etc.) has been practiced and refined for thousands of years for as long as humans have made cloth and wished to beautify it. During this workshop students learn about the history of dyeing and printing with plants\; how to prepare fabric for dyeing and printing\; ways to secure and alter dye color on cloth\; and many ways to get patterns and images on fabric with a variety of mordants and plant materials. We begin by gathering our printing and dyeing plants from the area surrounding the workshop (and at home).
X-ALT-DESC;FMTTYPE=text/html:<span style="color:rgb(0\, 0\, 0)\; font-family:arial\,helvetica\,sans-serif">Dyeing with plant pigments and other natural materials (insects\, lichen\, etc.) has been practiced and refined for thousands of years&mdash\;for as long as humans have made cloth and wished to beautify it.&nbsp\;During this workshop students learn about the history of dyeing and printing with plants\; how to prepare fabric for dyeing and printing\; ways to secure and alter dye color on cloth\; and many ways to get patterns and images on fabric with a variety of mordants and plant materials. We begin by gathering our printing and dyeing plants from the area surrounding the workshop (and at home).</span>
LOCATION:590 Water St\, Prairie Du Sac\, WI 53578
UID:e.1184.28193
SEQUENCE:3
DTSTAMP:20260421T061915Z
URL:http://members.saukprairie.com/events/details/local-color-botanical-printing-and-dying-with-lisa-binkley-09-09-2022-28193
END:VEVENT

END:VCALENDAR
