BEGIN:VCALENDAR
VERSION:2.0
PRODID:-//ChamberMaster//Event Calendar 2.0//EN
METHOD:PUBLISH
X-PUBLISHED-TTL:P3D
REFRESH-INTERVAL:P3D
CALSCALE:GREGORIAN
BEGIN:VEVENT
DTSTART;VALUE=DATE:20201003
DTEND;VALUE=DATE:20201004
TRANSP:TRANSPARENT
X-MICROSOFT-CDO-ALLDAYEVENT:TRUE
SUMMARY:Lord's Acre Celebration
DESCRIPTION:Lord's Acre Celebration\n\nSaturday\, Oct. 3rd\, 2020\n\nBlack Hawk-Bethlehem \n\nUnited Methodist Church\n\nS10174 County Road C\, Sauk City\n\nLocated on Hwy C between Plain and Sauk City\n\nDesignated STOP on the Farm DTOUR route\n\nEvent Schedule \n\n10:00 AM          Farmers Market   Produce & Bakery\n\n11:00 AM          Youth Food Tent- Brats\, hot dogs\, chips\, beverages \n\n11:00-1:00        Drive Thru Pork Chop Dinner (tent seating available)              \n\n             $12 meal includes Chop\, baked potato\, baked beans\, applesauce and cookie \n\n1:00 PM            Lords Acre Auction (held outside under tent)\n\nAuction Service: Lyle Wanless\n\nAuction Items Include: Homemade Quilts\, Wood Crafts\, Holiday D cor\, Wreathes\,\n\nThemed Baskets\, Hog\, Firewood\, Straw\, 8' Cherry Table Something for everyone!
X-ALT-DESC;FMTTYPE=text/html:<span style="color:#70AD47\;"><span style="font-family:broadway\;"><span style="font-size:28.0pt\;">Lord&rsquo\;s Acre Celebration</span></span></span><br />\n<strong><span style="color:black\;"><span style="font-size:36.0pt\;">Saturday\, Oct. 3<sup>rd</sup>\, 2020</span></span></strong><br />\n<span style="font-family:bernard mt condensed\,serif\;"><span style="font-size:36.0pt\;">Black Hawk-Bethlehem </span></span><br />\n<span style="font-family:bernard mt condensed\,serif\;"><span style="font-size:36.0pt\;">United Methodist Church</span></span><br />\n<span style="font-family:bernard mt condensed\,serif\;"><span style="font-size:18.0pt\;">S10174 County Road C\, Sauk City</span></span><br />\n<span style="font-family:britannic bold\,sans-serif\;"><span style="font-size:18.0pt\;">Located on Hwy C between Plain and Sauk City</span></span><br />\n<span style="font-family:castellar\,serif\;"><span style="font-size:20.0pt\;">Designated STOP on the Farm DTOUR route</span></span><br />\n<u><span style="font-size:26.0pt\;">Event Schedule </span></u><br />\n<span style="font-size:18.0pt\;">10:00 AM &nbsp\;&nbsp\;&nbsp\;&nbsp\;&nbsp\;&nbsp\;&nbsp\;&nbsp\; Farmers Market &ndash\; Produce &amp\; Bakery</span><br />\n<span style="font-size:18.0pt\;">11:00 AM &nbsp\;&nbsp\;&nbsp\;&nbsp\;&nbsp\;&nbsp\;&nbsp\;&nbsp\; Youth Food Tent- Brats\, hot dogs\, chips\, beverages </span><br />\n<span style="font-size:18.0pt\;">11:00-1:00 &nbsp\;&nbsp\;&nbsp\;&nbsp\;&nbsp\;&nbsp\; Drive Thru Pork Chop Dinner</span> <span style="font-size:14.0pt\;">(tent seating available) </span>&nbsp\;&nbsp\;&nbsp\;&nbsp\;&nbsp\;&nbsp\;&nbsp\;&nbsp\;&nbsp\;&nbsp\;&nbsp\;&nbsp\;&nbsp\;<br />\n<span style="font-size:12.0pt\;">&nbsp\;&nbsp\;&nbsp\;&nbsp\;&nbsp\;&nbsp\;&nbsp\;&nbsp\;&nbsp\;&nbsp\;&nbsp\;&nbsp\; $12 meal includes Chop\, baked potato\, baked beans\, applesauce and cookie </span><br />\n<span style="font-size:18.0pt\;">1:00 PM &nbsp\;&nbsp\;&nbsp\;&nbsp\;&nbsp\;&nbsp\;&nbsp\;&nbsp\;&nbsp\;&nbsp\; Lords Acre Auction </span><span style="font-size:16.0pt\;">(</span><span style="font-size:12.0pt\;">held outside under tent)</span><br />\n<span style="font-size:16.0pt\;">Auction Service: Lyle Wanless</span><br />\n<span style="font-size:14.0pt\;">Auction Items Include: Homemade Quilts\, Wood Crafts\, Holiday D&eacute\;cor\, Wreathes\,</span><br />\n<span style="font-size:14.0pt\;">Themed Baskets\, Hog\, Firewood\, Straw\, 8&rsquo\; Cherry Table&hellip\;Something for everyone!</span>
LOCATION:
UID:e.1184.26111
SEQUENCE:3
DTSTAMP:20260422T165228Z
URL:http://members.saukprairie.com/events/details/lord-s-acre-celebration-26111
END:VEVENT

END:VCALENDAR
