BEGIN:VCALENDAR
VERSION:2.0
PRODID:-//ChamberMaster//Event Calendar 2.0//EN
METHOD:PUBLISH
X-PUBLISHED-TTL:P3D
REFRESH-INTERVAL:P3D
CALSCALE:GREGORIAN
BEGIN:VEVENT
DTSTART:20211002T150000Z
DTEND:20211002T200000Z
X-MICROSOFT-CDO-ALLDAYEVENT:FALSE
SUMMARY:Lord's Acre Festival
DESCRIPTION:Lord's Acre Fall Festival\, 10am Bake Sale & Brat Stand\, 11am-1pm Porkchop Dinner ($13)\, 1pm Auction
X-ALT-DESC;FMTTYPE=text/html:Lord&#39\;s Acre Fall Festival\, 10am Bake Sale &amp\; Brat Stand\, 11am-1pm Porkchop Dinner ($13)\, 1pm Auction
LOCATION:Black Hawk: Bethlehem United Methodist Church at S10174 County Road C\, Sauk City\, WI 53583
UID:e.1184.26898
SEQUENCE:3
DTSTAMP:20260421T231103Z
URL:http://members.saukprairie.com/events/details/lord-s-acre-festival-26898
END:VEVENT

END:VCALENDAR
