BEGIN:VCALENDAR
VERSION:2.0
PRODID:-//ChamberMaster//Event Calendar 2.0//EN
METHOD:PUBLISH
X-PUBLISHED-TTL:P3D
REFRESH-INTERVAL:P3D
CALSCALE:GREGORIAN
BEGIN:VEVENT
DTSTART;VALUE=DATE:20231007
DTEND;VALUE=DATE:20231008
TRANSP:TRANSPARENT
X-MICROSOFT-CDO-ALLDAYEVENT:TRUE
SUMMARY:Lord's Acre Festival
DESCRIPTION:Join the Blackhawk Bethlehem Church for the Lord's Acre Festival!\n\n\n\n10am\n\n	Bake Sale\n	\n		Load up on your favorite home-made cakes\, cookies\, pies\, muffins\, bars and treats!\n	\n	\n	Youth Brat Stand\n	\n		Serving brats\, hotdogs\, chips\, and soda\n	\n	\n	Farmers Market\n	\n		This market will feature locally grown fall produce\, eggs\, perserves\, and more!\n	\n	\n\n11am-1pm\n\n\n	Pork Chop Dinner\n	\n		$15 Dine in or carry out\n		Includes: pork chop\, baked beans\, baked potato\, home-made applesauce\, dessert\, roll and milk\n	\n	\n\n1-3pm\n\n\n	Auction\n	\n		Bid on homemade and specialty donated items (crafts\, furniture\, quilts\, event tickets\, toys\, and much more!)\n		All proceeds are used for the ongoing ministries of Blackhawk Bethlehem Church
X-ALT-DESC;FMTTYPE=text/html:Join the Blackhawk Bethlehem Church for the Lord&#39\;s Acre Festival!<br />\n<br />\n10am\n<ul>\n	<li>Bake Sale\n	<ul>\n		<li>Load up on your favorite home-made cakes\, cookies\, pies\, muffins\, bars and treats!</li>\n	</ul>\n	</li>\n	<li>Youth Brat Stand\n	<ul>\n		<li>Serving brats\, hotdogs\, chips\, and soda</li>\n	</ul>\n	</li>\n	<li>Farmers Market\n	<ul>\n		<li>This market will feature locally grown fall produce\, eggs\, perserves\, and more!</li>\n	</ul>\n	</li>\n</ul>\n11am-1pm\n\n<ul>\n	<li>Pork Chop Dinner\n	<ul>\n		<li>$15 Dine in or carry out</li>\n		<li>Includes: pork chop\, baked beans\, baked potato\, home-made applesauce\, dessert\, roll and milk</li>\n	</ul>\n	</li>\n</ul>\n1-3pm\n\n<ul>\n	<li>Auction\n	<ul>\n		<li>Bid on homemade and specialty donated items (crafts\, furniture\, quilts\, event tickets\, toys\, and much more!)</li>\n		<li>All proceeds are used for the ongoing ministries of Blackhawk Bethlehem Church</li>\n	</ul>\n	</li>\n</ul>\n
LOCATION:S 10174 County Road C Sauk City
UID:e.1184.31021
SEQUENCE:3
DTSTAMP:20260420T062002Z
URL:http://members.saukprairie.com/events/details/lord-s-acre-festival-31021
END:VEVENT

END:VCALENDAR
