BEGIN:VCALENDAR
VERSION:2.0
PRODID:-//ChamberMaster//Event Calendar 2.0//EN
METHOD:PUBLISH
X-PUBLISHED-TTL:P3D
REFRESH-INTERVAL:P3D
CALSCALE:GREGORIAN
BEGIN:VEVENT
DTSTART:20241005T150000Z
DTEND:20241005T200000Z
X-MICROSOFT-CDO-ALLDAYEVENT:FALSE
SUMMARY:Lord's Acre Festival
DESCRIPTION:Please Join Us!\n\n\n\nLord's Acre Festival | Saturday\, October 5th | Blackhawk Bethlehem Church\n\n\n\n10am - Bake Sale | Youth Brat Stand | Farmers Market\n\n\n\n11am-1pm - Pork Chop Dinner\n\n\n\n1pm-3pm - Auction\n\n\n\n@ Blackhawk Bethlehem Church
X-ALT-DESC;FMTTYPE=text/html:Please Join Us!<br />\n<br />\nLord&#39\;s Acre Festival | Saturday\, October 5th&nbsp\;| Blackhawk Bethlehem Church<br />\n<br />\n10am - Bake Sale | Youth Brat Stand | Farmers Market<br />\n<br />\n11am-1pm - Pork Chop Dinner<br />\n<br />\n1pm-3pm - Auction<br />\n<br />\n@ Blackhawk Bethlehem Church
LOCATION:Blackhawk Bethlehem Church
UID:e.1184.33045
SEQUENCE:3
DTSTAMP:20260419T144001Z
URL:http://members.saukprairie.com/events/details/lord-s-acre-festival-33045
END:VEVENT

END:VCALENDAR
