BEGIN:VCALENDAR
VERSION:2.0
PRODID:-//ChamberMaster//Event Calendar 2.0//EN
METHOD:PUBLISH
X-PUBLISHED-TTL:P3D
REFRESH-INTERVAL:P3D
CALSCALE:GREGORIAN
BEGIN:VEVENT
DTSTART:20171007T153000Z
DTEND:20171007T200000Z
X-MICROSOFT-CDO-ALLDAYEVENT:FALSE
SUMMARY:Lord's Acre Harvest Fest at Black Hawk UMC
DESCRIPTION:Annual Festival includes: 10:30 Bake Sale\, 11:00-1:00 Pork Chop Dinner ($12)\, 1:00 Auction including home-made and collectible items.
X-ALT-DESC;FMTTYPE=text/html:Annual Festival includes: 10:30 Bake Sale\, 11:00-1:00 Pork Chop Dinner ($12)\, 1:00 Auction including home-made and collectible items.
LOCATION:Black Hawk-Bethlehem United Methodist Church S10174 County Rd C\, Sauk City
UID:e.1184.13971
SEQUENCE:3
DTSTAMP:20260424T222234Z
URL:http://members.saukprairie.com/events/details/lord-s-acre-harvest-fest-at-black-hawk-umc-13971
END:VEVENT

END:VCALENDAR
