BEGIN:VCALENDAR
VERSION:2.0
PRODID:-//ChamberMaster//Event Calendar 2.0//EN
METHOD:PUBLISH
X-PUBLISHED-TTL:P3D
REFRESH-INTERVAL:P3D
CALSCALE:GREGORIAN
BEGIN:VEVENT
DTSTART:20240127T010000Z
DTEND:20240127T033000Z
X-MICROSOFT-CDO-ALLDAYEVENT:FALSE
SUMMARY:Loteria Night
DESCRIPTION:Join us Friday\, January 26th for a fun-filled evening at La Mexicana as we host our first Loteria Night! Loteria is a traditional Mexican bingo game\, get ready to shout "Loteria!" and win prizes. Bring your friends and family for a fun night out.\n\nCost is $20 per person for 8 rounds\, chances to win prizes every round!\n\nWe will have 35 spots available please reserve your spot on this link:\n\nhttps://www.signupgenius.com/.../10C0B4FAEA92BA0FBC25...\n\nThis event will take place from 7pm-9:30pm\n\nFrom 7pm-8pm you will have the chance to get your loteria card\, find a seat\, get drinks or food\, and get a chance to mingle with friends. Food is available for sale from 7-8pm\, Drinks will be also be available until event is done. We will be giving out chips and salsa. We will start loteria right at 8pm.\n\n18 +
X-ALT-DESC;FMTTYPE=text/html:<div class="xdj266r x11i5rnm xat24cr x1mh8g0r x1vvkbs" color:="" font-size:="" segoe="" style="margin: 0px\; overflow-wrap: break-word\; font-family: " ui="">Join us Friday\, January 26th for a fun-filled evening at La Mexicana as we host our first Loteria Night! Loteria is a traditional Mexican bingo game\, get ready to shout &quot\;Loteria!&quot\; and win prizes. Bring your friends and family for a fun night out.</div>\n\n<div class="x11i5rnm xat24cr x1mh8g0r x1vvkbs xtlvy1s" color:="" font-size:="" segoe="" style="margin: 0.5em 0px 0px\; overflow-wrap: break-word\; font-family: " ui="">Cost is $20 per person for 8 rounds\, chances to win prizes every round!</div>\n\n<div class="x11i5rnm xat24cr x1mh8g0r x1vvkbs xtlvy1s" color:="" font-size:="" segoe="" style="margin: 0.5em 0px 0px\; overflow-wrap: break-word\; font-family: " ui="">We will have 35 spots available please reserve your spot on this link:</div>\n\n<div class="x11i5rnm xat24cr x1mh8g0r x1vvkbs xtlvy1s" color:="" font-size:="" segoe="" style="margin: 0.5em 0px 0px\; overflow-wrap: break-word\; font-family: " ui=""><a href="https://www.signupgenius.com/go/10C0B4FAEA92BA0FBC25-47291983-loteria?fbclid=IwAR18xDqF9MkCv9-HlGbLdhcvj814iknUL-i6oNjPUJnwgeXOmGXUH0KUiSs"><strong>https://www.signupgenius.com/.../10C0B4FAEA92BA0FBC25...</strong></a></div>\n\n<div class="x11i5rnm xat24cr x1mh8g0r x1vvkbs xtlvy1s" color:="" font-size:="" segoe="" style="margin: 0.5em 0px 0px\; overflow-wrap: break-word\; font-family: " ui="">This event will take place from 7pm-9:30pm<br />\nFrom 7pm-8pm you will have the chance to get your loteria card\, find a seat\, get drinks or food\, and get a chance to mingle with friends. Food is available for sale from 7-8pm\, Drinks will be also be available until event is done. We will be giving out chips and salsa. We will start loteria right at 8pm.</div>\n\n<div class="x11i5rnm xat24cr x1mh8g0r x1vvkbs xtlvy1s" color:="" font-size:="" segoe="" style="margin: 0.5em 0px 0px\; overflow-wrap: break-word\; font-family: " ui="">18 +</div>\n
LOCATION:La Mexicana
UID:e.1184.31531
SEQUENCE:3
DTSTAMP:20260420T020312Z
URL:http://members.saukprairie.com/events/details/loteria-night-31531
END:VEVENT

END:VCALENDAR
