BEGIN:VCALENDAR
VERSION:2.0
PRODID:-//ChamberMaster//Event Calendar 2.0//EN
METHOD:PUBLISH
X-PUBLISHED-TTL:P3D
REFRESH-INTERVAL:P3D
CALSCALE:GREGORIAN
BEGIN:VEVENT
DTSTART:20210610T223000Z
DTEND:20210611T013000Z
X-MICROSOFT-CDO-ALLDAYEVENT:FALSE
SUMMARY:Lou Shields at The Vines
DESCRIPTION:Thursday June 10th.\n\nCome on out and listen to Lou Shields.\n\n15$ per ticket (kids are free)\n\nDoors at 5:30pm\n\nShow at 6:30pm\n\nBYO everything\n\nLou Shields continues the tradition of American music with a solo-performance that pulls in styles of days-gone-by. Using his 1931 National Resonator Guitar or Banjo accompanied by a unique front porch style of foot percussion and harmonica\, he uses his voice as an extension of the past. Lou carries a full sound during live performances while sharing stories\, thoughts and experiences with the audience. He has toured throughout the United States and Europe for over 10 years and has released 6 full-length albums and 13 EP's.
X-ALT-DESC;FMTTYPE=text/html:<div>Thursday June 10th.<br />\nCome on out and listen to Lou Shields.<br />\n15$ per ticket (kids are free)<br />\nDoors at 5:30pm<br />\nShow at 6:30pm<br />\nBYO everything</div>\n\n<div>Lou Shields continues the tradition of American music with a solo-performance that pulls in styles of days-gone-by. Using his 1931 National Resonator Guitar or Banjo accompanied by a unique front porch style of foot percussion and harmonica\, he uses his voice as an extension of the past. Lou carries a full sound during live performances while sharing stories\, thoughts and experiences with the audience. He has toured throughout the United States and Europe for over 10 years and has released 6 full-length albums and 13 EP&rsquo\;s.</div>\n
LOCATION:The Vines W13002 Schoepp Rd\, Sauk City WI 53583
UID:e.1184.26659
SEQUENCE:3
DTSTAMP:20260422T034614Z
URL:http://members.saukprairie.com/events/details/lou-shields-at-the-vines-26659
END:VEVENT

END:VCALENDAR
