BEGIN:VCALENDAR
VERSION:2.0
PRODID:-//ChamberMaster//Event Calendar 2.0//EN
METHOD:PUBLISH
X-PUBLISHED-TTL:P3D
REFRESH-INTERVAL:P3D
CALSCALE:GREGORIAN
BEGIN:VEVENT
DTSTART:20220626T190000Z
DTEND:20220626T220000Z
X-MICROSOFT-CDO-ALLDAYEVENT:FALSE
SUMMARY:Lou Shields at the Vines
DESCRIPTION:Come see Lou Shields perform at the Vines!\n\n\n\nDoors open at 2pm\, music from 3-5pm. $15 donation per person. Kids 15 and under are free. BYO food and drinks. It's going to be a good time with amazing music!
X-ALT-DESC;FMTTYPE=text/html:Come see Lou Shields perform at the Vines!<br />\n<br />\nDoors open at 2pm\, music from 3-5pm. $15 donation per person. Kids 15 and under are free. BYO food and drinks. It&#39\;s going to be a good time with amazing music!
LOCATION:The Vines: W13002 Schoepp Rd\, Sauk City
UID:e.1184.28165
SEQUENCE:3
DTSTAMP:20260421T115820Z
URL:http://members.saukprairie.com/events/details/lou-shields-at-the-vines-28165
END:VEVENT

END:VCALENDAR
