BEGIN:VCALENDAR
VERSION:2.0
PRODID:-//ChamberMaster//Event Calendar 2.0//EN
METHOD:PUBLISH
X-PUBLISHED-TTL:P3D
REFRESH-INTERVAL:P3D
CALSCALE:GREGORIAN
BEGIN:VEVENT
DTSTART:20181203T234500Z
DTEND:20181204T010000Z
X-MICROSOFT-CDO-ALLDAYEVENT:FALSE
SUMMARY:Love Light Tree Lighting
DESCRIPTION:The Friends of Sauk Prairie Healthcare would like you to join us for an evening of holiday treats\, music and memories as we light the Love Light Tree. The program will begin at the Sauk Prairie Hospital Conference Center followed by lighting of the tree. Once the tree is lit\, guests are welcome to stay and share in the holiday spirit. Proceeds will go toward healthcare scholarships and resources for our hospital and clinics.
X-ALT-DESC;FMTTYPE=text/html:The Friends of Sauk Prairie Healthcare would like you to join us for an evening of holiday treats\, music and memories as we light the Love Light Tree. The program will begin at the Sauk Prairie Hospital Conference Center followed by lighting of the tree. Once the tree is lit\, guests are welcome to stay and share in the holiday spirit. Proceeds will go toward healthcare scholarships and resources for our hospital and clinics.
LOCATION:Sauk Prairie Healthcare\, 250 26th Street\, Prairie du Sac
UID:e.1184.21467
SEQUENCE:3
DTSTAMP:20260424T003054Z
URL:http://members.saukprairie.com/events/details/love-light-tree-lighting-21467
END:VEVENT

END:VCALENDAR
