BEGIN:VCALENDAR
VERSION:2.0
PRODID:-//ChamberMaster//Event Calendar 2.0//EN
METHOD:PUBLISH
X-PUBLISHED-TTL:P3D
REFRESH-INTERVAL:P3D
CALSCALE:GREGORIAN
BEGIN:VEVENT
DTSTART:20191202T234500Z
DTEND:20191203T013000Z
X-MICROSOFT-CDO-ALLDAYEVENT:FALSE
SUMMARY:Love Light Tree Lighting Ceremony
DESCRIPTION:Friends of Sauk Prairie Healthcare invites you to be a part of its annual "Love Light" program with their fundraiser accepting donations until November 22. For a minimum $5 donation\, people can sponsor a light to honor special people who are living or remember loved ones who have passed. In addition\, red\, white\, and blue lights will also be strung this year to thank military personnel for their service. To reserve bulbs\, send $5 for each name or $50 to be a sponsor by November 22 to the Friends of Sauk Prairie Healthcare\, 260 26th Street\, Prairie du Sac\, WI 53578. List names "in memory of"\, "in honor of"\, or "to thank for military service" and be sure to include your name and phone number or email. On December 2 at 5:45 p.m.\, come and enjoy music\, treats and shared memories of loved ones at our tree lighting ceremony being held at the Sauk Prairie Hospital Conference Center. A brief program will open the ceremony\, followed by the lighting of the tree. Love Light names will be displayed at the hospital on the electronic scroll throughout the holiday season. Printed lists will be available at the tree lighting ceremony or in the Sauk Prairie Hospital Gift Shop. Proceeds from this fundraiser support resources for our hospital and clinics. For more information\, to register or RSVP\, visit: https://www.saukprairiehealthcare.org/Portals/0/pdf/Love-Lights-Order-Form-2019.pdf Questions can be directed to the Sauk Prairie Healthcare Volunteer office at 608-643-7257
X-ALT-DESC;FMTTYPE=text/html:<span style="font-family:arial\,sans-serif\;"><span style="font-size:10.0pt\;">Friends of Sauk Prairie Healthcare invites you to be a part of its annual &ldquo\;Love Light&rdquo\; program with their fundraiser accepting donations until November 22. For a minimum $5 donation\, people can sponsor a light to honor special people who are living or remember loved ones who have passed. In addition\, red\, white\, and blue lights will also be strung this year to thank military personnel for their service. To reserve bulbs\, send $5 for each name or $50 to be a sponsor by November 22 to the Friends of Sauk Prairie Healthcare\, 260 26th Street\, Prairie du Sac\, WI 53578. List names &ldquo\;in memory of&rdquo\;\, &ldquo\;in honor of&rdquo\;\, or &ldquo\;to thank for military service&rdquo\; and be sure to include your name and phone number or email. On December 2 at 5:45 p.m.\, come and enjoy music\, treats and shared memories of loved ones at our tree lighting ceremony being held at the Sauk Prairie Hospital Conference Center. A brief program will open the ceremony\, followed by the lighting of the tree. Love Light names will be displayed at the hospital on the electronic scroll throughout the holiday season. Printed lists will be available at the tree lighting ceremony or in the Sauk Prairie Hospital Gift Shop. Proceeds from this fundraiser support resources for our hospital and clinics. For more information\, to register or RSVP\, visit: <a href="https://www.saukprairiehealthcare.org/Portals/0/pdf/Love-Lights-Order-Form-2019.pdf">https://www.saukprairiehealthcare.org/Portals/0/pdf/Love-Lights-Order-Form-2019.pdf</a> Questions can be directed to the Sauk Prairie Healthcare Volunteer office at 608-643-7257</span></span>
LOCATION:Sauk Prairie Hospital 260 26th Street Prairie du Sac\, WI 53578
UID:e.1184.23607
SEQUENCE:3
DTSTAMP:20260423T070205Z
URL:http://members.saukprairie.com/events/details/love-light-tree-lighting-ceremony-23607
END:VEVENT

END:VCALENDAR
