BEGIN:VCALENDAR
VERSION:2.0
PRODID:-//ChamberMaster//Event Calendar 2.0//EN
METHOD:PUBLISH
X-PUBLISHED-TTL:P3D
REFRESH-INTERVAL:P3D
CALSCALE:GREGORIAN
BEGIN:VEVENT
DTSTART:20231204T234500Z
DTEND:20231205T010000Z
X-MICROSOFT-CDO-ALLDAYEVENT:FALSE
SUMMARY:Love Lights Tree Lighting Ceremony
DESCRIPTION:The Friends of Sauk Prairie Healthcare invite you to be part of its annual Love Lights Tree Lighting Ceremony on Monday\, December 4\, 2023 at 5:45 p.m. at the Sauk Prairie Hospital caf  (260 26th St.\, Prairie du Sac). Enjoy a program followed by a song as the tree is lit. Honor someone special in your life or a loved one who has passed with a Love Light. Bulbs are $5 per name or you can become a sponsor for $50. Reserve your light by Friday\, November 17\, 2023. Learn more at www.saukprairiehealthcare.org/love-lights. Proceeds from this fundraiser support resources for the hospital and Sauk Prairie Healthcare clinics. Questions can be directed to the Sauk Prairie Healthcare Volunteer office at 608-643-7257.
X-ALT-DESC;FMTTYPE=text/html:The Friends of Sauk Prairie Healthcare invite you to be part of its annual Love Lights Tree Lighting Ceremony on Monday\, December 4\, 2023 at 5:45 p.m. at the Sauk Prairie Hospital caf&eacute\; (260 26th St.\, Prairie du Sac). Enjoy a program followed by a song as the tree is lit. Honor someone special in your life or a loved one who has passed with a Love Light. Bulbs are $5 per name or you can become a sponsor for $50. Reserve your light by Friday\, November 17\, 2023. Learn more at www.saukprairiehealthcare.org/love-lights. Proceeds from this fundraiser support resources for the hospital and Sauk Prairie Healthcare clinics. Questions can be directed to the Sauk Prairie Healthcare Volunteer office at 608-643-7257.
LOCATION:Sauk Prairie Hospital caf 260 26th Street Prairie du Sac\, WI
UID:e.1184.31210
SEQUENCE:3
DTSTAMP:20260420T044547Z
URL:http://members.saukprairie.com/events/details/love-lights-tree-lighting-ceremony-12-04-2023-31210
END:VEVENT

END:VCALENDAR
