BEGIN:VCALENDAR
VERSION:2.0
PRODID:-//ChamberMaster//Event Calendar 2.0//EN
METHOD:PUBLISH
X-PUBLISHED-TTL:P3D
REFRESH-INTERVAL:P3D
CALSCALE:GREGORIAN
BEGIN:VEVENT
DTSTART:20171204T234500Z
DTEND:20171205T003000Z
X-MICROSOFT-CDO-ALLDAYEVENT:FALSE
SUMMARY:Love Lights Tree Lighting Ceremony Friends of Sauk Prairie Healthcare
DESCRIPTION:The Friends of SPH invites you to come and enjoy music\, treats and shared memories of loved ones at our Tree Lighting Ceremony. Love Lights can be reserved by sending a donation by November 24 to have your recognition in the program. A brief program will open the ceremony\, followed by lighting the tree. The annual event serves as an inspiring and emotional time for many\; helping to prepare hearts for a holiday season without some of the loved ones they hold near and dear.
X-ALT-DESC;FMTTYPE=text/html:The Friends of SPH invites you to come and enjoy music\, treats and shared memories of loved ones at our Tree Lighting Ceremony. Love Lights can be reserved by sending a donation by November 24 to have your recognition in the program. A brief program will open the ceremony\, followed by lighting the tree. The annual event serves as an inspiring and emotional time for many\; helping to prepare hearts for a holiday season without some of the loved ones they hold near and dear.
LOCATION:Sauk Prairie Hospital Conference Center
UID:e.1184.13981
SEQUENCE:3
DTSTAMP:20260424T205820Z
URL:http://members.saukprairie.com/events/details/love-lights-tree-lighting-ceremony-friends-of-sauk-prairie-healthcare-13981
END:VEVENT

END:VCALENDAR
