BEGIN:VCALENDAR
VERSION:2.0
PRODID:-//ChamberMaster//Event Calendar 2.0//EN
METHOD:PUBLISH
X-PUBLISHED-TTL:P3D
REFRESH-INTERVAL:P3D
CALSCALE:GREGORIAN
BEGIN:VEVENT
DTSTART:20240217T190000Z
DTEND:20240217T220000Z
X-MICROSOFT-CDO-ALLDAYEVENT:FALSE
SUMMARY:Love Your Pet Party!
DESCRIPTION:Love Your Pet Party! @ Pet Supplies Plus - Sauk City\n\n\n\nSaturday\, February 17th 1 pm - 4 pm\n\n	Pup Cups\n	Adoptions\n	Games\n	Prizes\n	Product Demos
X-ALT-DESC;FMTTYPE=text/html:Love Your Pet Party! @ Pet Supplies Plus - Sauk City<br />\n<br />\nSaturday\, February 17th 1 pm - 4 pm\n<ul>\n	<li>Pup Cups</li>\n	<li>Adoptions</li>\n	<li>Games</li>\n	<li>Prizes</li>\n	<li>Product Demos</li>\n</ul>\n<br />\n&nbsp\;
LOCATION:Pet Supplies Plus
UID:e.1184.31568
SEQUENCE:3
DTSTAMP:20260420T003613Z
URL:http://members.saukprairie.com/events/details/love-your-pet-party-31568
END:VEVENT

END:VCALENDAR
